BEGIN:VCALENDAR
CALSCALE:GREGORIAN
METHOD:PUBLISH
PRODID:-//IT-On.NET//bielefeld.jetzt//DE
VERSION:2.0
BEGIN:VEVENT
CLASS:PUBLIC
CREATED:20260420T201002Z
DESCRIPTION:https://www.bielefeld.jetzt/node/1726930\n\nKünstliche
 Intelligenz ist längst im Alltag angekommen – aber wie nutze   \nich
 sie eigentlich für mich? In diesem Workshop geht es nicht um Theorie\,  
 \nsondern ums direkte Ausprobieren: mit dem eigenen Handy\, im Browser\,
 ohne   \nApp-Download. \nGemeinsam wählen wir zu Beginn die Themen\, die
 euch wirklich beschäftigen   \n– ob Reiseplanung\, Schulalltag mit
 Kindern\, kreative Projekte oder   \npersönliche Weiterentwicklung. In
 kleinen Gruppen erkundet ihr dann   \npraktisch\, was KI-Tools leisten
 können – mit konkreten Aufgaben und   \ngegenseitiger Unterstützung.
 \nIm Laufe des Workshops lernt ihr außerdem\, wie ihr KI gezielt und  
 \nselbstbewusst einsetzen könnt: Wie stelle ich die richtigen Fragen? Und
   \nworauf sollte ich beim Umgang mit meinen Daten achten? Ein eigener
 Block   \nwidmet sich dem Thema Sicherheit – von Deepfakes bis zum
 Schutz von   \nKinderfotos – nicht um Angst zu machen\, sondern um gut
 informiert zu sein. \nAm Ende geht jede mit einer konkreten Idee nach
 Hause\, die sie gleich in der   \nnächsten Woche umsetzen kann. \n
 \n(Stand: 20.04.2026)
DTEND:20260520T180000Z
DTSTAMP:20260420T095428Z
DTSTART:20260520T160000Z
GEO:52.051270;8.476700
LAST-MOD:20260420T095428Z
LOCATION:Bielefeld-Dornberg
STATUS:CONFIRMED
SUMMARY:KI im Alltag - Workshop für Frauen
TRANSP:OPAQUE
UID:1726931
URL:https://www.bielefeld.jetzt/node/1726930
END:VEVENT
END:VCALENDAR
