BEGIN:VCALENDAR
CALSCALE:GREGORIAN
METHOD:PUBLISH
PRODID:-//IT-On.NET//bielefeld.jetzt//DE
VERSION:2.0
BEGIN:VEVENT
CLASS:PUBLIC
CREATED:20260423T184634Z
DESCRIPTION:https://www.bielefeld.jetzt/node/1726934\n\nDie aus Malawi
 stammende\, 2013 mit dem Echo preisgekrönte Sängerin zog als  
 \nTeenager nach London\, wo sie dank vielfältiger musikalischer
 Einflüsse nach   \nund nach ihren ganz eigenen Stil aus Cool Jazz\, Pop\,
 Soul\, Reggae und Blues   \nentwickelte. Ebenso facettenreich ist ihre
 samtig-kraftvolle Stimme\, mit der   \nsie sich souverän zwischen Genres
 und Emotionen bewegt. \nMalia ist bekannt für ihre ausdrucksstarke
 Stimme. Mal wird die aus dem   \nostafrikanischen Malawi stammende
 Sängerin Malia als die pure Verkörperung   \ndes coolen Neo-Souljazz\,
 dann wieder als Erneuerin der Sangestradition der   \ngroßen Jazz-Diven
 wie Billie Holiday oder Nina Simone genannt – aber   \nebenso als
 Musikerin\, die traditionelle afrikanische Klänge neu belebt. Die  
 \nKosmopolitin bewegt sich selbstsicher und gekonnt in den Genres Soul\,
 Blues   \nund Jazz. Mit ihrem Debutalbum „Yellow Daffodils“ gelingt
 ihr sofort ein   \nCharterfolg\, ihr Video „Purple Shoes“ wird zur
 Legende. Im Jahr 2013   \nfolgte dann die Auszeichnung des ECHO JAZZ als
 "Internationale Sängerin des   \nJahres". Mit all ihren Konzertauftritten
 und mittlerweile sieben   \nSchallplatten hat sich Malia in der obersten
 Liga der gegenwärtigen Jazz-und   \nSouldamen etabliert. \nBesetzung:
 \nMalia: Gesang \nLaurent Seriès: Schlagzeug \nAlexandre Saada: Klavier)
 \nJean Daniel Botta: Kontrabass \n
 \n------------------------------------------------------------------------------
 \nIn Kooperation mit dem Kulturamt Bielefeld \nGefördert vom Ministerium
 für Kultur und Wissenschaft des Landes NRW \n \n(Stand: 23.04.2026)
DTSTAMP:20260420T124721Z
DTSTART:20261128T190000Z
GEO:52.027900;8.513150
LAST-MOD:20260420T124721Z
LOCATION:Rudolf-Oetker-Halle
STATUS:CONFIRMED
SUMMARY:Malia & Band
TRANSP:OPAQUE
UID:1726935
URL:https://www.bielefeld.jetzt/node/1726934
END:VEVENT
END:VCALENDAR
