BEGIN:VCALENDAR
CALSCALE:GREGORIAN
METHOD:PUBLISH
PRODID:-//IT-On.NET//bielefeld.jetzt//DE
VERSION:2.0
BEGIN:VEVENT
CLASS:PUBLIC
CREATED:20260421T134843Z
DESCRIPTION:https://www.bielefeld.jetzt/node/1726936\n\nFrühlingsfest mit
 Flohmarkt\, essen trinken miteinander\, anatolische   \nSpezialitäten.
 \nSie sind herzlich eingeladen \nAuch Hüpfburg für Kinder \n \n(Stand:
 21.04.2026)
DTEND:20260501T160000Z
DTSTAMP:20260420T135605Z
DTSTART:20260501T060000Z
GEO:51.981780;8.478970
LAST-MOD:20260420T135605Z
LOCATION:Bielefeld-Brackwede
STATUS:CONFIRMED
SUMMARY:Flohmarkt
TRANSP:OPAQUE
UID:1726937
URL:https://www.bielefeld.jetzt/node/1726936
END:VEVENT
END:VCALENDAR
