BEGIN:VCALENDAR
CALSCALE:GREGORIAN
METHOD:PUBLISH
PRODID:-//IT-On.NET//bielefeld.jetzt//DE
VERSION:2.0
BEGIN:VEVENT
CLASS:PUBLIC
CREATED:20260424T103550Z
DESCRIPTION:https://www.bielefeld.jetzt/node/1726940\n\nDas Präsentieren
 von Ergebnissen und Ideen sowie das Arbeiten mit Gruppen   \ngehört heute
 mit zu einer der wichtigsten Kompetenzen von Studierenden und   \nAlumnis
 einer Hochschule. Durch wenige moderative Techniken und Kniffe lassen  
 \nsich Präsentationen in Gruppen optimieren und qualitativ höhere
 Ergebnisse   \nerzielen. \nUm das häufig verbreitete Unwohlsein bei
 Präsentationen vor großen Gruppen   \n– gern auch als Lampenfieber
 bezeichnet – zu lindern\, gibt es einige   \nleicht zu erlernende
 Methoden. \nDer Fokus liegt auf der kompakten Vermittlung von
 Moderationstechniken. Das   \nKennenlernen und Ausprobieren von
 verschiedensten Methoden und die Planung   \nund Umsetzung einer eigenen
 Moderation stehen dabei im Vordergrund. Durch die   \nAuseinandersetzung
 mit der Haltung der Moderation und den damit verbundenen  
 \nHerausforderungen erlangen die Teilnehmenden die Sicherheit\, mit jeder
 Art   \nder Moderation von Gruppen gut zu Recht zu kommen. \nDie
 Moderationsausbildung umfasst sechs Blocktage sowie eine  
 \nSelbststudienphase. Konkrete Anwendungen und praktische Arbeit haben
 einen   \nhohen Stellenwert. Nach erfolgreicher Teilnahme wird ein
 Zertifikat   \nausgestellt. \nEine Anmeldung sowie die Entrichtung einer
 Unkostenbeteiligung sind   \nVoraussetzung für die Teilnahme. \nModul I:
 06./07.06.2026\, ca. 9:30 h – 17:00 h \nModul II: 13./14.06.2026\, ca.
 9:30 h – 17:00 h \nModul III: 27./28.06.2026\, ca. 9:30 h – 17:00 h \n
 \n(Stand: 24.04.2026)
DTEND:20260606T150000Z
DTSTAMP:20260420T200255Z
DTSTART:20260606T073000Z
GEO:52.036500;8.495100
LAST-MOD:20260420T200255Z
LOCATION:Universität Bielefeld
STATUS:CONFIRMED
SUMMARY:Moderationsausbildung 
TRANSP:OPAQUE
UID:1726941
URL:https://www.bielefeld.jetzt/node/1726940
END:VEVENT
END:VCALENDAR
