BEGIN:VCALENDAR
CALSCALE:GREGORIAN
METHOD:PUBLISH
PRODID:-//IT-On.NET//bielefeld.jetzt//DE
VERSION:2.0
BEGIN:VEVENT
CLASS:PUBLIC
CREATED:20260425T154854Z
DESCRIPTION:https://www.bielefeld.jetzt/node/784696\n\nÜbersetzung von
 Karen Witthuhn \nAlter ist ein Gefühl – und du wirst es fühlen. Du
 wirst es fühlen\,   \nwenn du beschließt\, ein interessantes Leben zu
 führen\, jenseits von   \nKonventionen. Wenn du etwas tun willst\, etwas
 Wichtiges\, etwas Großes –   \nnur was und wie? Du wirst es fühlen\,
 wenn du mit Angst vorm Sterben beim   \nArzt sitzt\, der nur müde
 lächelt und dich nach Hause schickt. Wenn du zu   \nviel trinkst und zu
 wenig schläfst – denn: Das Leben ist kurz. Wenn du   \ndich fragst\, ob
 du je die große Liebe finden wirst. Wenn du lernst\, dass   \nLiebe eben
 nicht bedingungslos ist. Wenn Fremde zu Freund*innen und wieder zu  
 \nFremden werden. Wenn dein Vater alt und dir klar wird\, dass du ihn
 nicht   \nwirklich kennst und er auch nicht dich\, und dass sich das nie
 ändern wird.   \nWenn es sich dann doch ändert. Du kannst die Zukunft
 nicht vorhersehen. Aber   \ndu wirst fühlen\, wie sie auf dich zurast.
 \nInspiriert von Interviews mit Hospiz-Mitarbeiter*innen\, Gesprächen mit
   \nMystiker*innen und Ausflügen auf den Friedhof schreibt Haley McGee
 die   \nGeschichten eines Lebens vom Tag des 25. Geburtstags bis zum Tod.
 Nicht alle   \nGeschichten werden bei jeder Aufführung erzählt – denn
 wer weiß schon   \nalles über einen Menschen? So entsteht ein immer
 wieder anderer Abend   \nüber die ewige Ungewissheit des Lebens\, über
 unsere Beziehung zur   \nSterblichkeit\, gegen Reue und Zynismus\, voller
 Weisheit und Trost für alle\,   \ndie sich fragen\, wie ihr Leben sein
 wird oder wie es hätte sein können. \n \n(Stand: 25.04.2026)
DTEND:20260625T194000Z
DTSTAMP:20260420T231501Z
DTSTART:20260625T180000Z
GEO:52.020599;8.531972
LAST-MOD:20260422T231501Z
LOCATION:Theater am Alten Markt
STATUS:CONFIRMED
SUMMARY:Age is a feeling
TRANSP:OPAQUE
UID:1729206
URL:https://www.bielefeld.jetzt/node/784696
END:VEVENT
END:VCALENDAR
