BEGIN:VCALENDAR
CALSCALE:GREGORIAN
METHOD:PUBLISH
PRODID:-//IT-On.NET//bielefeld.jetzt//DE
VERSION:2.0
BEGIN:VEVENT
CLASS:PUBLIC
CREATED:20260421T144051Z
DESCRIPTION:https://www.bielefeld.jetzt/node/1729207\n\nWiederaufnahme aus
 der Spielzeit 2023/24 \nImmer hat sie mit Grooves und Beats für gute
 Laune gesorgt\, auf den   \nFamilienpartys von Stefan\, einem
 erfolgreichen Macher mit viel Geld. Für   \nseinen 55. Geburtstag sucht
 er nach einem Motto. Sie schlägt vor: »Wir   \nmachen was
 Politisches«\, um die Partyleute mit Einfluss\, Macht und Geld zu  
 \nerreichen. Stefan erwidert knapp\, er hasse Aktivismus: »Wir machen
 Motto   \n\,Glamour´\, Ende der Diskussion.« \nAuf der Party greift sie
 dann doch zum Mikrofon und spricht über alles was   \nihr als Fragen
 unter den Nägeln brennt. Warum ist das Leben nicht   \nchancengleich und
 gerecht? Darf man ein korruptes Arschloch sein\, weil   \nschließlich das
 System korrupt ist? Ist das exponentielle Wachstum   \nalternativlos? Auch
 von ihrem Streit\, den sie mit Stefan über diese und   \nähnliche Themen
 hatte\, erzählt sie den Partygästen. Dann steht er   \nplötzlich hinter
 ihr\, wer weiß wie lange schon: »Verlass sofort mein   \nGrundstück!
 Ich zeig dich an! Du undankbares Stück Scheiße!« \n  \nMit Nicht mein
 Feuer erzählt Laura Naumann von Verzweiflung\, Verdrängung   \nund
 Hilflosigkeit\, die immer wieder eintritt\, wenn eigentlich schon längst 
  \nklar ist\, dass der Zeitpunkt gekommen ist\, zu handeln\, etwas zu
 unternehmen\,   \naktiv zu werden. \nHier [1] geht es zur Spotify-Playlist
 zum Stück. \n \n \n[1]
 https://open.spotify.com/playlist/49QYDXEmJTKmrDBZ6VHDyD?si=IZjdYKhQRCSBF89WQNvg2w
 \n(Stand: 21.04.2026)
DTEND:20260630T191000Z
DTSTAMP:20260420T231501Z
DTSTART:20260630T180000Z
GEO:52.020599;8.531972
LAST-MOD:20260420T231501Z
LOCATION:Theater am Alten Markt
STATUS:CONFIRMED
SUMMARY:Nicht mein Feuer
TRANSP:OPAQUE
UID:1729208
URL:https://www.bielefeld.jetzt/node/1729207
END:VEVENT
END:VCALENDAR
