BEGIN:VCALENDAR
CALSCALE:GREGORIAN
METHOD:PUBLISH
PRODID:-//IT-On.NET//bielefeld.jetzt//DE
VERSION:2.0
BEGIN:VEVENT
CLASS:PUBLIC
CREATED:20260421T144131Z
DESCRIPTION:https://www.bielefeld.jetzt/node/1729211\n\nMia reist
 anlässlich der Beerdigung ihrer Oma nach Hause zu ihren Eltern in   \ndie
 ländliche Provinz. Was ihre Eltern nicht wissen: Mit Hilfe der neuesten  
 \nDating-Technologie hat sie sich die ideale Partnerin in Form einer  
 \nDoppelgängerin namens Maia erschaffen lassen. Eigentlich hätte diese
 sie am   \nheutigen Tag als ihr Avatar vertreten sollen\, aber nun ist sie
 nicht zu   \nerreichen. Überfordert von den alten Familiendynamiken
 verschanzt Mia sich   \nim Auto. Als Maia endlich auftaucht\, ist Mia
 fassungslos: Ihre   \nDoppelgängerin hat sich verselbstständigt – und
 beginnt\, die   \nfestgefahrenen Strukturen aufzubrechen. \nWährend Mia
 im Auto festsitzt und hilflos mitansehen muss\, wie Maia ihre   \nEltern
 zu therapieren versucht\, drängt sich eine brisante Frage auf: Für  
 \nwen existiert die KI eigentlich? Was bedeutet es überhaupt\, eine
 künstliche   \nIntelligenz in unser Leben zu lassen? Ist sie Werkzeug\,
 Spiegel\, Rivalin? Wo   \nverläuft die Grenze zwischen Mensch und
 Maschine\, Kontrolle und   \nKontrollverlust? Und könnten es am Ende KIs
 sein\, die uns vor uns selbst   \nretten? Wie gelingt Verständigung in
 einer Welt\, die wir zunehmend durch   \ndigitale Konstrukte wahrnehmen?
 \nMit diesen Fragen setzt sich Laura Naumann (Nicht mein Feuer) in ihrem
 neuen   \nStück am Theater Bielefeld auseinander. \nDie Arbeit der
 Autorin am vorliegenden Theaterstück wurde vom Deutschen  
 \nLiteraturfonds e.V. gefördert. \n \n(Stand: 21.04.2026)
DTEND:20260621T191500Z
DTSTAMP:20260420T231501Z
DTSTART:20260621T173000Z
GEO:52.020599;8.531972
LAST-MOD:20260420T231501Z
LOCATION:Theater am Alten Markt
STATUS:CONFIRMED
SUMMARY:Schleuderdrama
TRANSP:OPAQUE
UID:1729214
URL:https://www.bielefeld.jetzt/node/1729211
END:VEVENT
END:VCALENDAR
