BEGIN:VCALENDAR
CALSCALE:GREGORIAN
METHOD:PUBLISH
PRODID:-//IT-On.NET//bielefeld.jetzt//DE
VERSION:2.0
BEGIN:VEVENT
CLASS:PUBLIC
CREATED:20260421T144116Z
DESCRIPTION:https://www.bielefeld.jetzt/node/1729215\n\nNervös schiebt
 Dilek am Flughafen Istanbul ihren Pass über den Tisch der  
 \nKontrollstelle. Als sie ihn ohne Kommentar zurückbekommt\, weiß sie:
 Noch   \nliegt nichts gegen sie vor. Noch. In der Türkei hatte sie
 online   \nregimekritisch gepostet – anonym unter dem Alias Kangal1210.
 Doch nun wird   \nein Bekannter verhört\, er könnte ihre Identität
 preisgeben. Und so steigt   \nsie ins Flugzeug nach Frankfurt. \nDileks
 Freund Tekin steht derweil vor ihrem leeren Kleiderschrank und weiß  
 \nnicht\, wo sie hin ist. Niemand weiß es\, niemand darf es wissen\,
 denkt Dilek.   \nIn Deutschland nimmt sie nur zu einer Person Kontakt auf:
 ihrer Cousine Ayla.   \nFrüher verbrachten sie die Sommer gemeinsam in
 der Türkei\, doch ihre   \nFamilien sind politisch entzweit. Während
 Ayla darum kämpft\, sich gegen   \nTraditionen\, Erwartungen und
 Vorurteile durchzusetzen\, ist Dilek überzeugt\,   \nselbst in
 Deutschland nicht in Sicherheit zu sein. Wer hört mit? Wem kann   \nsie
 trauen? \nKangal – benannt nach den türkischen Hirtenhunden\, die
 gegen Wölfe   \nkämpfen – ist ein packender\, hochpolitischer Thriller
 darüber\, wie das   \nperfide Überwachungssystem autoritärer Staaten
 Misstrauen und Spaltung   \nsät\, und bricht das Schweigen\, das von der
 Türkei bis nach Deutschland   \nreicht. \n \n(Stand: 21.04.2026)
DTEND:20260716T194500Z
DTSTAMP:20260420T231501Z
DTSTART:20260716T180000Z
GEO:52.020599;8.531972
LAST-MOD:20260420T231501Z
LOCATION:Theater am Alten Markt
STATUS:CONFIRMED
SUMMARY:Kangal
TRANSP:OPAQUE
UID:1729217
URL:https://www.bielefeld.jetzt/node/1729215
END:VEVENT
END:VCALENDAR
