BEGIN:VCALENDAR
CALSCALE:GREGORIAN
METHOD:PUBLISH
PRODID:-//IT-On.NET//bielefeld.jetzt//DE
VERSION:2.0
BEGIN:VEVENT
CLASS:PUBLIC
CREATED:20260421T144008Z
DESCRIPTION:https://www.bielefeld.jetzt/node/1729218\n\n»So eine
 Gemeinheit!« Kaum wagt sich der kleine Maulwurf nach draußen\,  
 \nlandet etwas auf seinem Kopf! Es ist … ein Häufchen! Wer war das?
 »Weißt   \ndu\, wer mir auf den Kopf gemacht hat?« Detektivisch befragt
 der kleine   \nMaulwurf die Verdächtigen: Taube\, Pferd\, Hase\, Ziege\,
 Kuh und Schwein. Doch   \nkeines dieser Tiere kann es gewesen sein. »Ich?
 Nein\, ich mach so …«\,   \nstellen sie ihre Unschuld unter Beweis. Da
 bekommt er von den Fliegen den   \nentscheidenden Hinweis: Vielleicht war
 es der Metzgershund?! \nDie Geschichte Vom kleinen Maulwurf\, der wissen
 wollte\, wer ihm auf den Kopf   \ngemacht hat vergnügt bereits seit
 Generationen Kinder und Erwachsene. Das   \nKinderbuch von Werner
 Holzwarth und Horst Erlbruch wurde in zahlreiche   \nSprachen übersetzt
 und millionenfach verkauft. Komponistin Elisabeth Naske   \nschuf 2022 aus
 dem kleinem Maulwurf und seinem »Problem« ein unterhaltsames  
 \nMusiktheaterwerk für eine Sängerin\, einen Schauspieler und eine
 Viola samt   \nSpieler*in\, das im Foyer der Rudolf-Oetker-Halle und als
 mobile Produktion   \nfür Kitas einmal mehr das jüngste Publikum (und
 Erwachsene!) zu   \nbegeistern vermag. \n \nKitas können sich unter
 kitaoper(at)bielefeld.de [1] bei uns melden. \n \n \n[1] # \n(Stand:
 21.04.2026)
DTEND:20260604T134000Z
DTSTAMP:20260420T231501Z
DTSTART:20260604T130000Z
GEO:52.027900;8.513150
LAST-MOD:20260420T231501Z
LOCATION:Rudolf-Oetker-Halle
STATUS:CONFIRMED
SUMMARY:Vom kleinen Maulwurf\, der wissen wollte\, wer ihm auf den Kopf
 gemacht hat
TRANSP:OPAQUE
UID:1729220
URL:https://www.bielefeld.jetzt/node/1729218
END:VEVENT
END:VCALENDAR
