BEGIN:VCALENDAR
CALSCALE:GREGORIAN
METHOD:PUBLISH
PRODID:-//IT-On.NET//bielefeld.jetzt//DE
VERSION:2.0
BEGIN:VEVENT
CLASS:PUBLIC
CREATED:20260421T144859Z
DESCRIPTION:https://www.bielefeld.jetzt/node/1729240\n\nDer verstorbene
 Bielefelder Unternehmer Hanns Bisegger hat in seinem   \nTestament die von
 ihm errichtete Hanns-Bisegger-Stiftung als Alleinerbin   \nseines
 Vermögens eingesetzt. Zweck der Stiftung ist die Förderung des  
 \nMusiklebens in Bielefeld\, weswegen der Stiftungsvorstand bereits vor
 einiger   \nZeit den Hanns-Bisegger-Wettbewerb in der Sparte Musik an der
 Musik- und   \nKunstschule ins Leben gerufen hat.  \nDie diesjährigen
 Preisträger\, die am 30.05. in der Musik- und Kunstschule   \nermittelt
 werden\, präsentieren ihr Können am 13.06. in dem kleinen Saal der  
 \nRudolf-Oetker-Halle.  \nDas Publikum kann sich auf ein spannendes
 Programm voller Talent und   \nmusikalischer Freude freuen. \n \n(Stand:
 21.04.2026)
DTEND:20260613T173000Z
DTSTAMP:20260420T231501Z
DTSTART:20260613T150000Z
GEO:52.027900;8.513150
LAST-MOD:20260420T231501Z
LOCATION:Rudolf-Oetker-Halle
STATUS:CONFIRMED
SUMMARY:Preisträgerkonzert des Hanns-Bisegger-Wettbewerbs
TRANSP:OPAQUE
UID:1729241
URL:https://www.bielefeld.jetzt/node/1729240
END:VEVENT
END:VCALENDAR
