BEGIN:VCALENDAR
CALSCALE:GREGORIAN
METHOD:PUBLISH
PRODID:-//IT-On.NET//bielefeld.jetzt//DE
VERSION:2.0
BEGIN:VEVENT
CLASS:PUBLIC
CREATED:20260421T144215Z
DESCRIPTION:https://www.bielefeld.jetzt/node/1729242\n\nDer Bläserbereich
 der Musik- und Kunstschule der Stadt Bielefeld   \npräsentiert am 4. Juli
 2026 um 18 Uhr in der Rudolf-Oetker-Halle ein buntes   \nProgramm mit rund
 200 Mitwirkenden. Mit dabei sind die Bigband Bi-Bop\, die   \nConcertino
 Band\, das Ensemble Wildholz\, das Ensemble Tutti Fagotti\,das  
 \nOrchester "Drei Sparren" Bielefeld e.V. sowie
 Bläserklassen-Schüler*innen   \ndes Gymnasiums am Waldhof\,  der
 Martin-Niemöller-Gesamtschule und der   \nFriedrich Wilhelm
 Murnau-Gesamtschule.  \n \n(Stand: 21.04.2026)
DTEND:20260704T181500Z
DTSTAMP:20260420T231501Z
DTSTART:20260704T160000Z
GEO:52.027900;8.513150
LAST-MOD:20260420T231501Z
LOCATION:Rudolf-Oetker-Halle
STATUS:CONFIRMED
SUMMARY:Flashing Winds
TRANSP:OPAQUE
UID:1729243
URL:https://www.bielefeld.jetzt/node/1729242
END:VEVENT
END:VCALENDAR
