BEGIN:VCALENDAR
CALSCALE:GREGORIAN
METHOD:PUBLISH
PRODID:-//IT-On.NET//bielefeld.jetzt//DE
VERSION:2.0
BEGIN:VEVENT
CLASS:PUBLIC
CREATED:20260422T031730Z
DESCRIPTION:https://www.bielefeld.jetzt/node/1729251\n\nAnanda Project -
 indische klassische Musik \nIm Mittelpunkt des Ananda-Project-Ensembles
 stehen die Sängerin Adrija Basu   \nund der Sänger Alick Sengupta. Beide
 sind junge professionelle Vokalisten   \naus Kalkutta\, die schon oft im
 All India Radio aufgetreten sind. Seit einigen   \nJahren sind sie ein
 Ehepaar - eine sehr intensive und spannende musikalische   \nInteraktion
 zwischen beiden ist auch auf der Bühne zu hören... \nDie klassische
 indische Musik kommt aus einer Jahrhunderte alten   \nspirituellen\,
 improvisatorischen Tradition. In Verbindung und Einheit mit der  
 \neigenen Seele\, Atman genannt\, erschaffen die Musiker:innen
 wunderschöne\,   \nintuitive Musik im Augenblick des Konzertes
 -Tongirlanden\, die künden von   \nAnanda\, einem zentralen Begriff der
 Yoga-Philosophie: Glückseligkeit und   \nFreude\, unsere wahre Natur.
 \nAußerdem spielen mit: der Tablaspieler Archishman Sinha Roy\, der
 Violinist   \nPeter Panduranga Bayreuther und Alick Sengupta am Harmonium.
 \nEin besonderes musikalisches Erlebnis! Weltmusik aus Indien trifft auf  
 \nJazzgeige aus Deutschland. \nIm Saal der Bürgerwache. \nEintritt frei /
 Spenden gerne gesehen \n \n(Stand: 21.04.2026)
DTEND:20260521T190000Z
DTSTAMP:20260421T091010Z
DTSTART:20260521T170000Z
GEO:52.028400;8.523240
LAST-MOD:20260421T091010Z
LOCATION:Bürgerwache
STATUS:CONFIRMED
SUMMARY:Ananda Project
TRANSP:OPAQUE
UID:1729252
URL:https://www.bielefeld.jetzt/node/1729251
END:VEVENT
END:VCALENDAR
