BEGIN:VCALENDAR
CALSCALE:GREGORIAN
METHOD:PUBLISH
PRODID:-//IT-On.NET//bielefeld.jetzt//DE
VERSION:2.0
BEGIN:VEVENT
CLASS:PUBLIC
CREATED:20260424T103550Z
DESCRIPTION:https://www.bielefeld.jetzt/node/1729259\n\nWasser macht Spaß
 – und Sicherheit im Wasser ist unbezahlbar! In unseren   \nliebevoll
 gestalteten Schwimmkursen begleiten wir Kinder Schritt für Schritt  
 \nauf dem Weg zum sicheren Schwimmer. \nAls zertifizierte Schwimmschule
 stehen wir für Qualität\, Sicherheit und   \npädagogisch durchdachten
 Unterricht. Ob erste Wassergewöhnung\, das begehrte   \nSeepferdchen oder
 das Bronze-Abzeichen: Unsere Kurse bauen aufeinander auf   \nund holen
 jedes Kind genau dort ab\, wo es steht. Mit viel Geduld\, Erfahrung  
 \nund Freude sorgen unsere qualifizierten Trainer dafür\, dass Lernen  
 \nspielerisch gelingt und Selbstvertrauen wächst. \nUnsere Kurse im
 Überblick: \nAqua Basics – spielerische Wassergewöhnung für die
 Kleinsten \nSeepferdchen – die ersten Schwimmzüge und das erste
 Abzeichen \nBronze – mehr Sicherheit\, Technik und Ausdauer im Wasser
 \nDas erwartet euch: \n- Zertifizierte Schwimmschule mit hohen
 Qualitätsstandards \n- Kindgerechte Lernmethoden mit Spaßfaktor \n-
 Sichere Lernumgebung und 3-4 erfahrene Schwimmlehrer pro Termin \nStart:
 18.05.2026 \nOrt: Bewegungsbad im Klinikum Bielefeld Mitte\, Teutoburger
 Str. 50\, 33604   \nBielefeld \nDie Anmeldung ist einfach und bequem
 online möglich. Auch die Bezahlung   \nerfolgt unkompliziert über unsere
 modernen Zahlungsmöglichkeiten –   \nschnell\, sicher und
 familienfreundlich. Es besteht auch die Möglichkeit der   \nZahlung über
 Bildung- und Teilhabe. In diesem Fall wendet euch bitte direkt   \nan uns.
 \nSichert euch jetzt einen Platz und gebt eurem Kind die Sicherheit\, die
 es im   \nWasser braucht! \n \n(Stand: 24.04.2026)
DTSTAMP:20260421T102605Z
DTSTART:20260518T150000Z
GEO:52.013600;8.544390
LAST-MOD:20260421T102605Z
LOCATION:Klinikum Bielefeld Mitte
STATUS:CONFIRMED
SUMMARY:Schwimmkurse für Kinder
TRANSP:OPAQUE
UID:1729260
URL:https://www.bielefeld.jetzt/node/1729259
END:VEVENT
END:VCALENDAR
