BEGIN:VCALENDAR
CALSCALE:GREGORIAN
METHOD:PUBLISH
PRODID:-//IT-On.NET//bielefeld.jetzt//DE
VERSION:2.0
BEGIN:VEVENT
CLASS:PUBLIC
CREATED:20260424T103405Z
DESCRIPTION:https://www.bielefeld.jetzt/node/1729305\n\nWasser macht Spaß
 – und Sicherheit im Wasser ist unbezahlbar! In unseren   \nliebevoll
 gestalteten Schwimmkursen begleiten wir Kinder Schritt für Schritt  
 \nauf dem Weg zum sicheren Schwimmer. \nAls zertifizierte Schwimmschule
 stehen wir für Qualität\, Sicherheit und   \npädagogisch durchdachten
 Unterricht. Ob das begehrte Seepferdchen oder das   \nBronze-Abzeichen:
 Unsere Kurse bauen aufeinander auf und holen jedes Kind   \ngenau dort
 ab\, wo es steht. Mit viel Geduld\, Erfahrung und Freude sorgen   \nunsere
 qualifizierten Trainer dafür\, dass Lernen spielerisch gelingt und  
 \nSelbstvertrauen wächst. \nUnsere Kurse im Überblick: \nSeepferdchen
 – die ersten Schwimmzüge und das erste Abzeichen \nBronze – mehr
 Sicherheit\, Technik und Ausdauer im Wasser \nDas erwartet euch: \n-
 Zertifizierte Schwimmschule mit hohen Qualitätsstandards \n- Kindgerechte
 Lernmethoden mit Spaßfaktor \n- Sichere Lernumgebung und 3-4 erfahrene
 Schwimmlehrer pro Termin \nStart: 16.05.2026 \nOrt: Bewegungsbad im
 Franziskus Hospital Bielefeld\, Kisker Str. 26\, 33615   \nBielefeld \nDie
 Anmeldung ist einfach und bequem online möglich. Auch die Bezahlung  
 \nerfolgt unkompliziert über unsere modernen Zahlungsmöglichkeiten –  
 \nschnell\, sicher und familienfreundlich. Es besteht auch die
 Möglichkeit der   \nZahlung über Bildung- und Teilhabe. In diesem Fall
 wendet euch bitte direkt   \nan uns. \nSichert euch jetzt einen Platz und
 gebt eurem Kind die Sicherheit\, die es im   \nWasser braucht! \n
 \n(Stand: 24.04.2026)
DTSTAMP:20260421T110934Z
DTSTART:20260606T070000Z
GEO:52.024700;8.559200
LAST-MOD:20260421T110934Z
LOCATION:Bielefeld-Mitte
STATUS:CONFIRMED
SUMMARY:Schwimmkurse für Kinder
TRANSP:OPAQUE
UID:1729309
URL:https://www.bielefeld.jetzt/node/1729305
END:VEVENT
END:VCALENDAR
