BEGIN:VCALENDAR
CALSCALE:GREGORIAN
METHOD:PUBLISH
PRODID:-//IT-On.NET//bielefeld.jetzt//DE
VERSION:2.0
BEGIN:VEVENT
CLASS:PUBLIC
CREATED:20260422T032140Z
DESCRIPTION:https://www.bielefeld.jetzt/node/1729318\n\nUnser jährliches
 Maidorf ist das Highlight auf dem Hof. Von 11-17 Uhr könnt   \nihr an den
 zahlreichen Info- und Verkaufsständen stöbern\, leckeren Kaffee   \nund
 Waffeln an unserem Kiosk genießen und natürlich bei unserer großen  
 \nCharity-Tombola mitmachen und tolle Preise gewinnen. Der Erlös kommt zu
 100%   \nden Tieren zugute. \nWir freuen uns auf euch! \nDa wir nur sehr
 wenige Parkplätze haben\, kommt bitte mit dem Rad oder dem   \nBus zu
 uns. \n \n(Stand: 21.04.2026)
DTEND:20260509T150000Z
DTSTAMP:20260421T113849Z
DTSTART:20260509T090000Z
GEO:52.008290;8.516760
LAST-MOD:20260421T113849Z
LOCATION:Bielefeld-Gadderbaum
STATUS:CONFIRMED
SUMMARY:Maidorf 
TRANSP:OPAQUE
UID:1729319
URL:https://www.bielefeld.jetzt/node/1729318
END:VEVENT
END:VCALENDAR
