BEGIN:VCALENDAR
CALSCALE:GREGORIAN
METHOD:PUBLISH
PRODID:-//IT-On.NET//bielefeld.jetzt//DE
VERSION:2.0
BEGIN:VEVENT
CLASS:PUBLIC
CREATED:20260422T031632Z
DESCRIPTION:https://www.bielefeld.jetzt/node/1729320\n\nHier wird
 authentische Stand-up-Comedy geboten. Jede Show ist einzigartig\,  
 \nwobei die Moderatoren das Publikum gerne interaktiv einbinden. Zudem
 stellen   \nmehrere Newcomer und Stand-up-Profis Euch ihre neuen Jokes vor
 oder spielen   \nbereits bestehende Nummern. \nFreut Euch auf einen
 unvergesslichen Abend in der Cantine Bielefeld. Auf   \nunserem
 Social-Media-Kanal könnt Ihr Euch einen Eindruck von unseren Shows  
 \nmachen. \nAbendkasse nur wenn verfügbar. Die letzten Shows waren
 bereits früh   \nausverkauft. Kartenzahlung vor Ort nicht möglich!
 \nMehr Infos auf Instagram: @comedyclubowl \nWebsite:
 https://comedyclubowl.my.canva.site/website \n \n(Stand: 21.04.2026)
DTEND:20260522T193000Z
DTSTAMP:20260421T114722Z
DTSTART:20260522T173000Z
GEO:52.023727;8.550172
LAST-MOD:20260421T114722Z
LOCATION:Cantine
STATUS:CONFIRMED
SUMMARY:Comedy Night Bielefeld
TRANSP:OPAQUE
UID:1729321
URL:https://www.bielefeld.jetzt/node/1729320
END:VEVENT
END:VCALENDAR
