BEGIN:VCALENDAR
CALSCALE:GREGORIAN
METHOD:PUBLISH
PRODID:-//IT-On.NET//bielefeld.jetzt//DE
VERSION:2.0
BEGIN:VEVENT
CLASS:PUBLIC
CREATED:20260422T031730Z
DESCRIPTION:https://www.bielefeld.jetzt/node/1729322\n\nLuca (16) ist auf
 Social Media ein glücklicher Teenager. Gemeinsam mit ihren   \nEltern
 Stella und Chris lebt sie ein makelloses Insta-Gallery-Life. Die drei  
 \nsind our_bright_life\, ein Family-Influencer-Business. Seit Lucas erstem
   \nUltraschallbild produzieren sie "gemeinsam" Lifestyle-Content für
 knapp drei   \nMillionen Follower und verdienen damit sehr viel Geld.Als
 Luca herausfindet\,   \ndass ihre Eltern noch ein weiteres Kind bekommen
 möchten\, versucht sie mehr   \ndenn je\, deren Erwartungen zu
 erfüllen\, um ihren Platz zu behalten. Doch   \nLucas Eltern
 überschreiten immer wieder ihre Grenzen\, um mehr Klicks zu  
 \ngenerieren\, und eröffnen der Community gegen Lucas Willen\, wie schwer
 es   \nLuca fällt\, sich mit der Idee eines neuen Geschwisterchens
 anzufreunden.   \nLuca beginnt\, mit kindlichen Mitteln zu rebellieren.
 Das zur Schau gestellte   \nFamilienglück gerät ins Wanken. Was
 passiert\, wenn sie sich die Liebe ihrer   \nEltern nicht länger
 verdienen möchte?Während eines Events lernt Luca Julie   \n(26) kennen.
 Julie ist selbstsicher\, zugewandt\, ziemlich cool und gibt Luca   \ndas
 Gefühl\, mehr zu sein als nur eine Influencerin\, die immer alles richtig
   \nmachen muss. Eine Freundschaft entsteht. Das Pregnancy-Announcement
 ihrer   \nEltern\, in dem sie unwissend eine wichtige Rolle spielt\, gibt
 Luca den Rest.   \nSie verlässt ihre Familie\, zieht in ein Hotel und
 genießt rare Momente der   \nUnabhängigkeit.Unterdessen machen ihre
 Eltern weiter wie gehabt -- das   \nNarrativ rund um eine heitere
 Schwangerschaft muss schließlich bedient   \nwerden. Um dem etwas
 entgegenzusetzen\, beschließt Luca\, wieder ins   \nSocial-Media-Business
 einzusteigen\, diesmal ohne ihre Eltern. Sie probiert   \nsich aus und
 versucht\, aus bisherigen Verhaltensmustern auszubrechen. Mit   \nJulie\,
 die ihr erst eine wahre Freundin ist\, rutscht Luca allerdings schnell  
 \nwieder in lebenslang erlernte Beziehungsmuster. Luca wendet sich von
 Julie ab   \nund erfährt auch bei dem Versuch\, Teil einer anderen
 Familie zu werden\, kein   \nGefühl der Zugehörigkeit. Als die
 Einsamkeit nicht mehr auszuhalten ist\,   \nkehrt Luca zurück ins
 Elternhaus. Lucas Eltern empfangen ihre Tochter mit   \noffenen Armen und
 alles scheint wie früher zu sein. Doch als ihre Mutter   \nLuca bittet\,
 die Geburt ihrer Schwester zu filmen\, fallen die letzten   \nSchuppen von
 Lucas Augen und sie fällt eine Entscheidung: Nach der Geburt   \nihrer
 Schwester startet sie einen letzten Fluchtversuch\, um sich und ihre  
 \nSchwester aus den kapitalistischen Fängen von Social Media und der
 toxischen   \nFamiliendynamik zu retten. Mit ihrer Schwester verlässt sie
 die Bildfläche. \n \n(Stand: 21.04.2026)
DTEND:20260424T183000Z
DTSTAMP:20260421T121707Z
DTSTART:20260424T160000Z
GEO:52.022125;8.544558
LAST-MOD:20260421T121707Z
LOCATION:Lichtwerk
STATUS:CONFIRMED
SUMMARY:kino_mit_gästen: Babystar
TRANSP:OPAQUE
UID:1729323
URL:https://www.bielefeld.jetzt/node/1729322
END:VEVENT
END:VCALENDAR
