BEGIN:VCALENDAR
CALSCALE:GREGORIAN
METHOD:PUBLISH
PRODID:-//IT-On.NET//bielefeld.jetzt//DE
VERSION:2.0
BEGIN:VEVENT
CLASS:PUBLIC
CREATED:20260422T031633Z
DESCRIPTION:https://www.bielefeld.jetzt/node/1729400\n\nEin Abend im
 Dialog – klar\, klug\, zeitgemäß. \nAm 05.05.26 sind bei Heins
 prägnante Stimmen der Zeitgeschichte zu Gast: \nProf. Dr. Norbert Frei
 und Journalist Kai Diekmann diskutieren über   \nAufbruch\, Verantwortung
 und die Fragen\, die uns beschäftigen. Bei der   \nBuchpräsentation und
 Lesung von Prof. Dr. Norbert Frei: “Konrad Adenauer   \n– Kanzler nach
 der Katastrophe” entsteht ein Gespräch zwischen   \nVergangenheit und
 Gegenwart\, das einordnet\, hinterfragt und neue Perspektiven   \nöffnet.
 🎙️ \nFreu dich auf eine fein kuratierte Buchpräsentation mit
 anschließender   \nDiskussion – begleitet von Speis und Trank in
 entspannter Atmosphäre bei   \n"Heins" im H1. \nDurch den Abend führen
 Prof. Dr. Christina Morina (Uni Bielefeld) und Dr.   \nAndreas Iding
 (Goldbeck) mit Gespür für die richtigen Fragen und Raum für  
 \nAustausch. \nPsst – Studierende aufgepasst: Das Studi-Ticket kostet
 nur 8 €! ✨ \n*Studentenausweis mitbringen und am Eingang vorzeigen.
 \nEin Abend für alle\, die zuhören\, mitdenken und weiterfragen
 möchten! \nTickets hier:  
 \nhttps://shop.weeztix.com/9150e1f0-c28e-4f96-939f-2579b2484df3/tickets \n
 \n(Stand: 21.04.2026)
DTEND:20260505T200000Z
DTSTAMP:20260421T140605Z
DTSTART:20260505T150000Z
GEO:52.024200;8.537140
LAST-MOD:20260421T140605Z
LOCATION:Kesselbrink
STATUS:CONFIRMED
SUMMARY:Adenauer\, Aufbruch\, alte und neue Fragen
TRANSP:OPAQUE
UID:1729401
URL:https://www.bielefeld.jetzt/node/1729400
END:VEVENT
END:VCALENDAR
