BEGIN:VCALENDAR
CALSCALE:GREGORIAN
METHOD:PUBLISH
PRODID:-//IT-On.NET//bielefeld.jetzt//DE
VERSION:2.0
BEGIN:VEVENT
CLASS:PUBLIC
CREATED:20260424T122541Z
DESCRIPTION:https://www.bielefeld.jetzt/node/1729478\n\nUnser Ziel ist
 es\, die Tuning-Szene von der Straße zu holen und an einem  
 \ngemeinsamen\, sicheren Ort zusammenzubringen. Statt unkontrollierter
 Treffen   \nsteht bei uns ein respektvolles und organisiertes Miteinander
 im Vordergrund. \n \nDie Veranstaltung ist bei der Polizei angemeldet.
 \nAm Freitag\, den 24.04.2026\, treffen wir uns ab 19 Uhr auf dem
 Parkplatz\,   \nPotsdamer Straße 176\, 33719 Bielefeld-Oldentrup
 (Stadtbezirk Heepen).   \nEingeladen sind alle Auto- und
 Tuning-Begeisterten – unabhängig davon\, ob   \nmit eigenem Fahrzeug
 oder als Besucher. \nAb 20:00 Uhr finden Livestreams und Interviews
 statt\, bei denen Teilnehmer   \nihre Fahrzeuge präsentieren und
 Einblicke in ihre Umbauten geben. \nKeine Rennen\, kein unnötiger Lärm\,
 kein Stress. \nWir bitten alle Teilnehmer um ein respektvolles Verhalten
 und darum\, den   \nPlatz sauber zu hinterlassen. \n \n(Stand:
 24.04.2026)
DTEND:20260424T215900Z
DTSTAMP:20260421T174617Z
DTSTART:20260424T170000Z
LAST-MOD:20260421T174617Z
LOCATION:Bielefeld
STATUS:CONFIRMED
SUMMARY:Black-Line OWL – Tuning Community Treffen
TRANSP:OPAQUE
UID:1729479
URL:https://www.bielefeld.jetzt/node/1729478
END:VEVENT
END:VCALENDAR
