BEGIN:VCALENDAR
CALSCALE:GREGORIAN
METHOD:PUBLISH
PRODID:-//IT-On.NET//bielefeld.jetzt//DE
VERSION:2.0
BEGIN:VEVENT
CLASS:PUBLIC
CREATED:20260424T121928Z
DESCRIPTION:https://www.bielefeld.jetzt/node/1729480\n\nDie Bielefelder
 Beginenhöfe sind ein Frauenwohnprojekt und uns ist es ein  
 \nHerzensanliegen Frauen und Frauengruppen in ihrem Wirken und Schaffen zu
   \nunterstützen. Ganz nach dem Motto: von Frauen für Frauen! \nDaher
 ist es uns eine Freude die Werke der Künstlerinnengruppe  
 \n"Farbpoetinnen“ bei uns zeigen zu können. \nDer Besuch der
 Ausstellung ist möglich: \n \n * Immer am 2. Samstag im Monat zum
 Beginencafe von 15 bis 17 Uhr \n * Immer am letzten Sonntag im Monat zum
 Kreativtreff von 15 bis 17:30 Uhr \n * und nach Vereinbarung\, \n
 \nKontakt per Mail oder telefonisch unter 0521 54367130 \n
 \n------------------------------------------------------------------------------
 \n“Farbpoetinnen“ bezeichnet sowohl das innovative Empowerment-Projekt
 als   \nauch die Frauen\, die ihm Gesicht und Stimme geben. Unter der
 Leitung der   \nDiplom-Pädagogin Sevilay İnci-Kartal\, die das Konzept
 eigenständig   \nentwickelte\, ist in den Räumen des Café Welcome (BGW)
 ein Forum für   \ngesellschaftliche Teilhabe entstanden. \nWer sind die
 Farbpoetinnen? \nEs sind Frauen\, die Kunst als universelle Sprache
 nutzen\, um kulturelle und   \nsoziale Barrieren zu überwinden. Das
 Projekt bietet ihnen einen geschützten   \nRaum\, in dem kreatives
 Schaffen untrennbar mit der Vermittlung von   \nFrauenrechten und
 psychologischer Stärkung verbunden ist. \nDie Farbpoetinnen beschränken
 sich nicht auf die Leinwand; sie nutzen ihre   \nKunst als kraftvolles
 Werkzeug\, um gesellschaftliche Prozesse aktiv   \nmitzugestalten. Durch
 den Verkauf ihrer Kunstwerke unterstützen sie   \nsolidarisch lokale
 Frauenorganisationen(2025 AWO Frauenhaus\, 2026 Bell Zett   \njeweils
 1000€ Spende) \nSo wird aus individueller Förderung ein starkes Signal
 für weibliche   \nSelbstbestimmung und kollektive Unterstützung. \nNach
 dem Motto von Frauen für Frauen! \nIn unserem Projekt werden aus Farben
 Worte und aus Teilnehmerinnen stolze   \nAkteurinnen ihrer eigenen
 Geschichte“\, so Sevilay İnci-Kartal. Die “   \nFarbpoetinnen“
 beweisen eindrucksvoll\, wie Integration und Empowerment   \ndurch die
 Verbindung von Empowerment\, Kunst und politischem Bewusstsein  
 \ngelingen können.” \n
 \n------------------------------------------------------------------------------
 \nKontakt für Rückfragen: \nSevilay Inci- Kartal \n015205675883 \n  \n
 \n(Stand: 24.04.2026)
DTEND:20260425T150000Z
DTSTAMP:20260421T193440Z
DTSTART:20260425T120000Z
GEO:51.959110;8.532910
LAST-MOD:20260421T193440Z
LOCATION:Bielefeld-Senne
STATUS:CONFIRMED
SUMMARY:Kunst im Beginenhof
TRANSP:OPAQUE
UID:1729481
URL:https://www.bielefeld.jetzt/node/1729480
END:VEVENT
END:VCALENDAR
