BEGIN:VCALENDAR
CALSCALE:GREGORIAN
METHOD:PUBLISH
PRODID:-//IT-On.NET//bielefeld.jetzt//DE
VERSION:2.0
BEGIN:VEVENT
CLASS:PUBLIC
CREATED:20260422T051211Z
DESCRIPTION:https://www.bielefeld.jetzt/node/1731747\n\nEin Chansonabend
 mit Musik und Texten verschiedener Künstler*innen aus   \nVergangenheit
 und Gegenwart. Poetische\, freie\, unzensierte Gedanken über   \ndas
 Ausbrechen aus Konventionen\, über Selbstbestimmung\, Liebe\, Kummer\,  
 \nVerlust und Sehnsüchte – neu interpretiert von Lara Hofmann und
 Louis   \nWittmann. \n \n(Stand: 22.04.2026)
DTEND:20260619T210000Z
DTSTAMP:20260421T231501Z
DTSTART:20260619T200000Z
GEO:52.020599;8.531972
LAST-MOD:20260421T231501Z
LOCATION:Theater am Alten Markt
STATUS:CONFIRMED
SUMMARY:Wenn ich mir was wünschen dürfte
TRANSP:OPAQUE
UID:1731748
URL:https://www.bielefeld.jetzt/node/1731747
END:VEVENT
END:VCALENDAR
