BEGIN:VCALENDAR
CALSCALE:GREGORIAN
METHOD:PUBLISH
PRODID:-//IT-On.NET//bielefeld.jetzt//DE
VERSION:2.0
BEGIN:VEVENT
CLASS:PUBLIC
CREATED:20260424T104041Z
DESCRIPTION:https://www.bielefeld.jetzt/node/1731752\n\nWorkshop \n
 \n(Stand: 24.04.2026)
DTSTAMP:20260421T234501Z
DTSTART:20260521T120000Z
GEO:52.023900;8.535310
LAST-MOD:20260421T234501Z
LOCATION:Wissenswerkstadt Bielefeld
STATUS:CONFIRMED
SUMMARY:Kritik\, Macht & Teilhabe. Intersektionale Perspektiven auf
 Wissenschaft und Hochschule
TRANSP:OPAQUE
UID:1731753
URL:https://www.bielefeld.jetzt/node/1731752
END:VEVENT
END:VCALENDAR
