BEGIN:VCALENDAR
CALSCALE:GREGORIAN
METHOD:PUBLISH
PRODID:-//IT-On.NET//bielefeld.jetzt//DE
VERSION:2.0
BEGIN:VEVENT
CLASS:PUBLIC
CREATED:20260424T104015Z
DESCRIPTION:https://www.bielefeld.jetzt/node/1731754\n\nVortrag im Rahmen
 der Vorlesungsreihe „Signatures of World Society“ des   \nInstituts
 für Weltgesellschaft in Zusammenarbeit mit dem Fokusbereich   \nUNIVERSAL
 \n \nRaum: X-E0-001 \n \n(Stand: 24.04.2026)
DTSTAMP:20260421T234501Z
DTSTART:20260602T161500Z
GEO:52.036500;8.495100
LAST-MOD:20260421T234501Z
LOCATION:Universität Bielefeld
STATUS:CONFIRMED
SUMMARY:Nahed Samour (Nijmegen): Die Zukunft der deutschen Nahostpolitik
 und des Völkerrechts
TRANSP:OPAQUE
UID:1731755
URL:https://www.bielefeld.jetzt/node/1731754
END:VEVENT
END:VCALENDAR
