BEGIN:VCALENDAR
CALSCALE:GREGORIAN
METHOD:PUBLISH
PRODID:-//IT-On.NET//bielefeld.jetzt//DE
VERSION:2.0
BEGIN:VEVENT
CLASS:PUBLIC
CREATED:20260424T104148Z
DESCRIPTION:https://www.bielefeld.jetzt/node/1731756\n\nAm Dienstag\, dem
 9. Juni von 15-18 Uhr veranstalten wir von Students For   \nFuture wieder
 einen Flohmarkt auf dem Sozialen Feld! Kommt vorbei\, schnappt   \neuch
 coole Kleidung\, Bücher\, Dekozeug und schenkt ihnen neues Leben! Für  
 \nInformationen zur Standanmeldung schaut auf Instagram vorbei 🙂 \n
 \n(Stand: 24.04.2026)
DTSTAMP:20260421T234501Z
DTSTART:20260609T130000Z
GEO:52.036500;8.495100
LAST-MOD:20260421T234501Z
LOCATION:Universität Bielefeld
STATUS:CONFIRMED
SUMMARY:Flohmarkt
TRANSP:OPAQUE
UID:1731757
URL:https://www.bielefeld.jetzt/node/1731756
END:VEVENT
END:VCALENDAR
