BEGIN:VCALENDAR
CALSCALE:GREGORIAN
METHOD:PUBLISH
PRODID:-//IT-On.NET//bielefeld.jetzt//DE
VERSION:2.0
BEGIN:VEVENT
CLASS:PUBLIC
CREATED:20260424T103911Z
DTSTAMP:20260421T235501Z
DTSTART:20260606T190000Z
GEO:52.051200;8.594940
LAST-MOD:20260421T235501Z
LOCATION:Freizeitzentrum Baumheide
STATUS:CONFIRMED
SUMMARY:Sabado Caliente - PARTY - Tanzen\, Genießen und einfach ganz viel
 Spaß!
TRANSP:OPAQUE
UID:1731782
URL:https://www.bielefeld.jetzt/node/1731781
END:VEVENT
END:VCALENDAR
