BEGIN:VCALENDAR
CALSCALE:GREGORIAN
METHOD:PUBLISH
PRODID:-//IT-On.NET//bielefeld.jetzt//DE
VERSION:2.0
BEGIN:VEVENT
CLASS:PUBLIC
CREATED:20260424T111922Z
DESCRIPTION:https://www.bielefeld.jetzt/node/1731785\n\nSalsa\, Bachata\,
 Kizomba Edition \nJeden Donnerstag lädt Kizomba Bielefeld\, gemeinsam mit
 Gastgeber Adamo   \nMatsinhe\, zur KIZOMBA DE ALEGRIA PARTY ins JZ Kamp.
 Sanfte Kizomba-Rhythmen   \nund gefühlvolle Melodien schaffen eine
 warme\, einladende Atmosphäre\, in der   \nPaartanz im Mittelpunkt steht.
 \nDie Abendgestaltung kombiniert entspannte Social-Dance-Sets mit
 wechselnden   \nDJs und kurzen Workshop-Einlagen\, ideal zum Einsteigen
 oder zum Vertiefen   \neigener Fähigkeiten. Das JZ Kamp bietet den
 passenden\, vertrauten Rahmen   \nfür geselliges Tanzen und zwanglose
 Begegnungen. \nOb neugierig oder erfahren\, alle Tänzerinnen und Tänzer
 sind willkommen\,   \ndie verbindende Energie der Kizomba zu erleben und
 den Donnerstagabend   \nmusikalisch und tänzerisch ausklingen zu lassen.
 \n(Stand: 24.04.2026)
DTSTAMP:20260421T235501Z
DTSTART:20261101T160000Z
GEO:52.018559;8.548953
LAST-MOD:20260421T235501Z
LOCATION:Jugendzentrum Kamp
STATUS:CONFIRMED
SUMMARY:Kizomba De Alegria - Party
TRANSP:OPAQUE
UID:1731807
URL:https://www.bielefeld.jetzt/node/1731785
END:VEVENT
END:VCALENDAR
