BEGIN:VCALENDAR
CALSCALE:GREGORIAN
METHOD:PUBLISH
PRODID:-//IT-On.NET//bielefeld.jetzt//DE
VERSION:2.0
BEGIN:VEVENT
CLASS:PUBLIC
CREATED:20260422T160222Z
DESCRIPTION:https://www.bielefeld.jetzt/node/1731817\n\nKunst -- Mensch --
 Begegnung: Am 9. Mai 2026 findet unser ART WEEKEND -H₂O   \nfinal-
 statt! \nMit kostenlosen Workshops quer durch die Künste laden wir zum
 kreativen Flow   \nmiteinander ein\, bevor es abends mit Performance &
 kurzem P.ART.Y-Programm   \nentspannt-feierlich weitergeht. Der Eintritt
 ist frei\, alle sind herzlich   \nwillkommen. \nPROGRAMM WORKSHOPS \n11:30
 - 14:30 Uhr | MOVEMENT FLOW | Tanz-Workshop | Dhélé Agbetou \n11:30 -
 14:30 Uhr | INTUITIVES EINTAUCHEN | Mixed Media\, Zeichnung\,  
 \nText-Workshop | Änne Hahn \n15:30 - 18:30 Uhr | FLOW LIKE WATER |
 Rap-Workshop | lülü & Pasco \n15:30 - 18:30 Uhr | DEEP SEA BLUE SKY |
 Eisenblaudruck-Workshop | Mira   \nThomsen \nOPEN ALL DAY |
 COLLAGE-Ausstellung "Ein jedes Blatt ein Mensch" \nFinissage mit
 Interaktion: Neue Menschen\, neues Blatt - collagiere Dich mit   \nuns
 durch Meereswogen & Wasserwelten. \nUM 19 UHR: \nFLOATING BLUE |
 INSTALLATIVE PERFORMANCE \nEs fließen Text\, Körper\, Sound\, Video &
 Bewegung \nUM 20 UHR: \nP.ART.Y mit DJ POK | Urban\, Tropical & Global
 Bass \nDie Teilnahme an den Workshops ist dank der Projektförderung
 kostenlos. \nDer Eintritt für Ausstellung\, Performance und P.ART.Y ist
 frei | Spenden   \nerwünscht. \nMehr Infos und die Anmeldung für die
 Workshops findet Ihr auf unserer   \nWebsite. \nTAKE P.ART! DO ART. \n
 \n(Stand: 22.04.2026)
DTEND:20260509T200000Z
DTSTAMP:20260422T082742Z
DTSTART:20260509T093000Z
GEO:52.030579;8.526475
LAST-MOD:20260422T082742Z
LOCATION:Alarmtheater
STATUS:CONFIRMED
SUMMARY:Art Weekend
TRANSP:OPAQUE
UID:1731818
URL:https://www.bielefeld.jetzt/node/1731817
END:VEVENT
END:VCALENDAR
