BEGIN:VCALENDAR
CALSCALE:GREGORIAN
METHOD:PUBLISH
PRODID:-//IT-On.NET//bielefeld.jetzt//DE
VERSION:2.0
BEGIN:VEVENT
CLASS:PUBLIC
CREATED:20260422T160338Z
DESCRIPTION:https://www.bielefeld.jetzt/node/1731820\n\nWas ist die Kraft
 des Wassers? Wo sind unsere Heimatgewässer? Das Wasser\,   \ndas uns
 verbindet? Wie fließt es? \nSeit 2024 forschen und erforschen wir in
 unserem durch das RKP- Regionale   \nKultur Programm NRW geförderten
 Kunstprojekt H₂O mit\, am\, im\, auf und   \nüber WASSER. Nun fließen
 das regional gewachsene Material\, Recherchen und   \nImpulse in eine
 INSTALLATIVE PERFORMANCE ein. \nZwischen VIDEO\, TEXT\, SOUNDS\, KÖRPER
 und BEWEGUNG spiegelt die Performance   \ndie Vielstimmigkeit der Menschen
 wider\, die über zwei Jahre im Projekt   \nmitgeflossen sind. \nTauche
 ein mit uns: \nFLOATING BLUE | INSTALLATIVE PERFORMANCE \nText\, Körper\,
 Sound\, Video und Bewegung \nSA. 09. Mai 2026 | 19:00 Uhr im AlarmTheater
 \n- Eintritt frei - \nKünstlerische Leitung: Rebecca Budde de Cancino
 \nBeteiligte Künstler:innen: Svenja Grohe (Tanz) | Chris Janzen (Visuals)
 |   \nLuan Cancino (Sound) | Jenni Pogosjan (Musik) | Dietlind Budde &
 Harald Otto   \nSchmid (Szenografie) & weitere Akteur:innen \nMehr
 Eindrücke findet Ihr auf unserer Website. \n \n(Stand: 22.04.2026)
DTEND:20260509T180000Z
DTSTAMP:20260422T084835Z
DTSTART:20260509T170000Z
GEO:52.030579;8.526475
LAST-MOD:20260422T084835Z
LOCATION:Alarmtheater
STATUS:CONFIRMED
SUMMARY:Floating Blue
TRANSP:OPAQUE
UID:1731821
URL:https://www.bielefeld.jetzt/node/1731820
END:VEVENT
END:VCALENDAR
