BEGIN:VCALENDAR
CALSCALE:GREGORIAN
METHOD:PUBLISH
PRODID:-//IT-On.NET//bielefeld.jetzt//DE
VERSION:2.0
BEGIN:VEVENT
CLASS:PUBLIC
CREATED:20260422T160419Z
DESCRIPTION:https://www.bielefeld.jetzt/node/1731822\n\nRaum für Tanz\,
 Kunst\, Begegnung und mehr \nInspiriert von einem Tag voller kreativer
 Vibes wird am Abend des ART   \nWEEKENDs der Dancefloor in unserem
 installativen Kunstraum eröffnet! Mit POK   \nan den Turntables erweitern
 wir den gemeinsamen Space und lassen es bei der   \nP.ART.Y zu Urban\,
 Tropical & Global Bass Sounds kurz-knackig in den Abend   \nflowen. \nGanz
 egal\, ob Ihr tagsüber schon da wart oder nicht\, ob als Ausklang des  
 \nTages oder auch Auftakt zur nächsten Party\, entspannt bis ausgelassen:
 Kommt   \nvorbei\, feiert\, tanzt und flowt mit uns! \nDer Eintritt zur
 P.ART.Y ist frei. Spenden sind herzlich erwünscht. \nDas ganze Programm
 des ART WEEKEND findet Ihr auf unserer Website. \n \n(Stand: 22.04.2026)
DTEND:20260509T200000Z
DTSTAMP:20260422T090501Z
DTSTART:20260509T180000Z
GEO:52.030579;8.526475
LAST-MOD:20260422T090501Z
LOCATION:Alarmtheater
STATUS:CONFIRMED
SUMMARY:P.ART.Y mit POK
TRANSP:OPAQUE
UID:1731823
URL:https://www.bielefeld.jetzt/node/1731822
END:VEVENT
END:VCALENDAR
