BEGIN:VCALENDAR
CALSCALE:GREGORIAN
METHOD:PUBLISH
PRODID:-//IT-On.NET//bielefeld.jetzt//DE
VERSION:2.0
BEGIN:VEVENT
CLASS:PUBLIC
CREATED:20260424T164943Z
DESCRIPTION:https://www.bielefeld.jetzt/node/1731828\n\nBeim Fotowalk mit
 dem Profifotografen Huib Rutten nehmt ihr die City vor Eure   \nHandy-
 oder Kameralinse. \n \n*Treffpunkt:* Jahnplatz-Uhr. \n \nKeine
 Vorkenntnisse und keine Anmeldung erforderlich. \n
 \n------------------------------------------------------------------------------
 \nDies ist eine kostenlose Aktion vom City.Team Bielefeld \n \n(Stand:
 24.04.2026)
DTEND:20260509T150000Z
DTSTAMP:20260422T102737Z
DTSTART:20260509T140000Z
GEO:52.023200;8.533360
LAST-MOD:20260422T102737Z
LOCATION:Jahnplatz
STATUS:CONFIRMED
SUMMARY:Zusammen knipsen - Fotowalk
TRANSP:OPAQUE
UID:1731830
URL:https://www.bielefeld.jetzt/node/1731828
END:VEVENT
END:VCALENDAR
