BEGIN:VCALENDAR
CALSCALE:GREGORIAN
METHOD:PUBLISH
PRODID:-//IT-On.NET//bielefeld.jetzt//DE
VERSION:2.0
BEGIN:VEVENT
CLASS:PUBLIC
CREATED:20260425T155227Z
DESCRIPTION:https://www.bielefeld.jetzt/node/1633174\n\nmit der
 Künstlerin Vera Brüggemann \n14 - 17 Uhr \n \nIn der Artothek
 entdecken wir viele Druckgrafiken – von Lithografien und   \nMonotypien
 über Siebdrucke und Radierungen bis hin zu Holz- und   \nLinolschnitten.
 Inspiriert von den Werken aus der Ausstellung werden wir im   \nGewölbe
 selbst mit klassischen Drucktechniken experimentieren. \nKostenbeitrag auf
 Spendenbasis 20 Euro inkl. Materialkosten. \n \nUm Anmeldung bis zum 7.
 Mai wird gebeten unter:   \nvermittlung@kunstverein-bielefeld.de \n
 \n(Stand: 25.04.2026)
DTEND:20260509T150000Z
DTSTAMP:20260422T122326Z
DTSTART:20260509T120000Z
GEO:52.019140;8.528450
LAST-MOD:20260422T122326Z
LOCATION:Kunstverein Bielefeld
STATUS:CONFIRMED
SUMMARY:DRUCKEN!  
TRANSP:OPAQUE
UID:1731839
URL:https://www.bielefeld.jetzt/node/1633174
END:VEVENT
END:VCALENDAR
