BEGIN:VCALENDAR
CALSCALE:GREGORIAN
METHOD:PUBLISH
PRODID:-//IT-On.NET//bielefeld.jetzt//DE
VERSION:2.0
BEGIN:VEVENT
CLASS:PUBLIC
CREATED:20260424T055610Z
DESCRIPTION:https://www.bielefeld.jetzt/node/1731816\n\n/Preila Project\,
 2025/ \n \nHD video\, sound\, 30' \n \n„Preila Project“ erzählt auf
 subtile Weise eine Geschichte\, die uns in   \ndie Vergangenheit versetzt
 und zugleich mit Bildern der Gegenwart erweitert   \nwird. Kuriose
 historische Fakten\, utopische staatliche Ambitionen und eine   \nlebhafte
 künstlerische Vorstellungskraft greifen ineinander und bilden ein  
 \nvielschichtiges Narrativ. \n \nDie Videoarbeit lädt dazu ein\, in den
 idyllischen Ferienort Preila an der   \nOstsee in Litauen einzutauchen.
 Fragmentarische Erzählungen von Erholung und   \nLangeweile werden dabei
 immer wieder von der Geschichte einer Schatzsuche in   \nder Küstenstadt
 durchbrochen. Im Zentrum steht eine Episode aus dem Jahr   \n1998\, als
 spekuliert wurde\, dass das berühmte Bernsteinzimmer – im Zweiten  
 \nWeltkrieg verschollen und oft als achtes Weltwunder bezeichnet –  
 \nausgerechnet hier entdeckt werden könnte. \n \nDie historischen
 Ereignisse und kollektiven Erinnerungen in Litauen bilden   \ndie
 Inspirationsquelle und den Ausgangspunkt der Künstlerinnen. Zugleich  
 \nfließen persönliche Kindheitserinnerungen in die Arbeit ein: Bilder
 von   \nPolizeibeamten\, Videokameras\, Tauchern in Anzügen und Nachbarn
 mit   \nfunkelnden Augen. Diese Eindrücke verweben sich mit
 gegenwärtigen   \nPerspektiven auf einen Ort\, der heute von Ruhe und
 Erholung geprägt ist. \n \nDie damaligen Ereignisse wurden ausführlich
 in der Presse dokumentiert.   \nUnterschiedliche Akteure prägten die
 Geschichte – darunter der   \nNSDAP-Gauleiter Erich Koch\, der aus der
 Kurischen Nehrung stammende Zeuge   \nHanz Stančius und dessen Cousin\,
 der Initiator der Suche\, Richard Pietsch\,   \nsowie zahlreiche weitere
 Nebenfiguren. Gleichzeitig wurde kontrovers   \ndiskutiert\, wem ein
 möglicher Fund des Schatzes zustehen würde – Litauen\,   \nDeutschland
 oder Russland. \n \nIn der Videoarbeit trifft so das Globale auf das
 Persönliche. Doch je näher   \nman den Erzählungen einzelner Zeitzeugen
 kommt\, desto mehr verliert die   \neinst aufgeblähte Geschichte an
 Größe. Die Zuschauer*innen sind   \neingeladen\, in diese vielschichtige
 Welt einzutauchen und eine   \nmelancholische\, manchmal ironische Reise
 durch das persönliche und   \nkollektive Gedächtnis zu unternehmen. \n
 \n(Textauszüge aus der Ausstellung /Preila Project/\, 2025 kuratiert von 
  \nPaulius Andriuškevičius\, Pamario Gallery\, Juodkrantė\, Litauen.)
 \n \n  \n \n*Ieva** **Kotryna** **Ski* ist eine litauische
 Künstlerin\,   \ndie aktuell in Paris lebt und arbeitet. Ihr
 künstlerisches Schaffen   \numfasst die Arbeit mit dokumentarischen
 Filmformen\, Text und audiovisuellen   \nInstallationen. \n
 \n*Ignė** **Narbutaitė* ist eine in Vilnius lebende Videokünstlerin
 sowie   \nFilm- und Videoeditorinund arbeitet an Spiel- und
 Dokumentarfilmen\,   \nKünstler*innenvideos\, Musikvideos und
 TV-Formaten. \n \n  \n \n// \n \n  \n \n/Preila Project/ subtly unfolds
 a story that transports us into the past   \nwhile simultaneously
 expanding it through images of the present. Curious   \nhistorical facts\,
 utopian state ambitions\, and a vivid artistic imagination   \nintertwine
 to form a multilayered narrative. \n \nThe video work invites viewers to
 immerse themselves in the idyllic seaside   \nresort of Preila on the
 Lithuanian coast. Fragmentary accounts of leisure and   \nboredom are
 repeatedly interrupted by the story of a treasure hunt in the   \ncoastal
 town. At its center is an episode from 1998\, when it was speculated  
 \nthat the famous Amber Room—lost during the Second World War and often 
  \nreferred to as the eighth wonder of the world—might be discovered
 here. \n \nHistorical events and collective memories in Lithuania serve as
 both the   \ninspiration and the starting point for the artists. At the
 same time\,   \npersonal childhood memories flow into the work: images of
 police officers\,   \nvideo cameras\, divers in suits\, and neighbors with
 sparkling eyes. These   \nimpressions intertwine with contemporary
 perspectives on a place now defined   \nby calm and relaxation. \n \nThe
 events were widely covered in the press at the time. Various figures  
 \nshaped the story\, including the NSDAP Gauleiter Erich Koch\, the
 witness Hanz   \nStančius from the Curonian Spit and his cousin\, the
 initiator of the search\,   \nRichard Pietsch\, as well as numerous
 secondary characters. At the same time\,   \nthere was heated debate over
 who would have the right to any potential   \ndiscovery of the
 treasure—Lithuania\, Germany\, or Russia. \n \nIn the video\, the global
 meets the personal. Yet the closer one gets to the   \naccounts of
 individual witnesses\, the more the once-inflated story begins to  
 \nshrink. The audience is invited to immerse themselves in this
 multifaceted   \nworld and embark on a melancholic\, sometimes ironic
 journey through personal   \nand collective memory. \n \n(Text excerpts
 from the exhibition /Preila Project/\, 2025 curated by Paulius  
 \nAndriuškevičius\, Pamario Gallery\, Juodkrantė\, Lithuania.) \n
 \n*Ieva Kotryna Ski* is a Lithuanian artist based in Paris. Her practice  
 \nincludes working with documentary film forms\, text and audiovisual  
 \ninstallations. \n \n*Ignė Narbutaitė* is a video maker\, film and
 video editor based in Vilnius.   \nAs an editor she works on feature
 films\, documentaries\, artist videos\, music   \nvideos and TV
 documentaries. \n \n  \n \nBild: Ieva Kotryna Ski & Ignė Narbutaitė\,
 Preila Project\, 2025\, video still \n \n(Stand: 24.04.2026)
DTSTAMP:20260422T122421Z
DTSTART:20260425T160000Z
GEO:52.019140;8.528450
LAST-MOD:20260422T122421Z
LOCATION:Kunstverein Bielefeld
STATUS:CONFIRMED
SUMMARY:SCREENING
TRANSP:OPAQUE
UID:1731840
URL:https://www.bielefeld.jetzt/node/1731816
END:VEVENT
END:VCALENDAR
