BEGIN:VCALENDAR
CALSCALE:GREGORIAN
METHOD:PUBLISH
PRODID:-//IT-On.NET//bielefeld.jetzt//DE
VERSION:2.0
BEGIN:VEVENT
CLASS:PUBLIC
CREATED:20260423T161416Z
DESCRIPTION:https://www.bielefeld.jetzt/node/1731843\n\nLust auf ein neues
 Lieblingsstück? Passend zum kreativen Ratgeber aus dem   \nChristophorus
 Verlag laden wir Sie zu einem inspirierenden Bastelabend in  
 \ngemütlicher Atmosphäre ein. Ob farbenfroh\, originell oder klassisch
 –   \nunter der fachkundigen Anleitung von Mona Brandt gestalten Sie
 Ihre eigenen   \nSchmuckstücke. Dank detaillierter
 Schritt-für-Schritt-Techniken entstehen   \nim Handumdrehen
 handgefertigte Ketten\, die garantiert bewundernde Blicke   \nernten.
 Keine Vorkenntnis erforderlich\, Material & Werkzeug werden gestellt.
 \nPräsentiert von: Frau Brandt leitet seit über 10 Jahren erfolgreiche  
 \nWorkshops in unserer Bielefelder Buchhandlung. Ihre Veranstaltungen
 ziehen   \nkreative Teilnehmer jeden Alters und Talents an und sorgen
 stets für einen   \nbunten und inspirierenden Abend. \n \n(Stand:
 23.04.2026)
DTSTAMP:20260422T142048Z
DTSTART:20260520T163000Z
GEO:52.023030;8.531449
LAST-MOD:20260422T142048Z
LOCATION:Thalia
STATUS:CONFIRMED
SUMMARY:Ketten einfach selber machen!
TRANSP:OPAQUE
UID:1731844
URL:https://www.bielefeld.jetzt/node/1731843
END:VEVENT
END:VCALENDAR
