BEGIN:VCALENDAR
CALSCALE:GREGORIAN
METHOD:PUBLISH
PRODID:-//IT-On.NET//bielefeld.jetzt//DE
VERSION:2.0
BEGIN:VEVENT
CLASS:PUBLIC
CREATED:20260423T163346Z
DESCRIPTION:https://www.bielefeld.jetzt/node/1731845\n\nOb als fröhliche
 Deko\, kreative Geschenkidee oder entspannendes DIY-Projekt   \n– diese
 Papierblüten bringen garantiert Freude und verwelken nicht! Unter   \nder
 fachkundigen Anleitung von Mona Brandt können alle Blüten in  
 \nverschiedenen Größen und Papieren gefaltet werden\, da ist für jedes 
  \nGeschick und jeden Geschmack etwas dabei! Keine Vorkenntnis
 erforderlich\,   \nMaterial & Werkzeug werden gestellt. \nPräsentiert
 von: Frau Brandt leitet seit über 10 Jahren erfolgreiche   \nWorkshops in
 unserer Bielefelder Buchhandlung. Ihre Veranstaltungen ziehen   \nkreative
 Teilnehmer jeden Alters und Talents an und sorgen stets für einen  
 \nbunten und inspirierenden Abend. \n \n(Stand: 23.04.2026)
DTSTAMP:20260422T142547Z
DTSTART:20260624T163000Z
GEO:52.023030;8.531449
LAST-MOD:20260422T142547Z
LOCATION:Thalia
STATUS:CONFIRMED
SUMMARY:Eintauchen in die farbenfrohe Vielfalt der Origami-Blumenkunst!
TRANSP:OPAQUE
UID:1731846
URL:https://www.bielefeld.jetzt/node/1731845
END:VEVENT
END:VCALENDAR
