BEGIN:VCALENDAR
CALSCALE:GREGORIAN
METHOD:PUBLISH
PRODID:-//IT-On.NET//bielefeld.jetzt//DE
VERSION:2.0
BEGIN:VEVENT
CLASS:PUBLIC
CREATED:20260423T163323Z
DESCRIPTION:https://www.bielefeld.jetzt/node/1731847\n\nDIY-Fans
 aufgepasst! Wir laden zu einem kreativen Abend für Schmuck- und  
 \nBastelfans ein. Ob inspirierende Botschaften\, Lieblingswörter oder
 einfach   \nDein ganz individuelles Design – hier findest du
 einzigartige Ideen zum   \nNachmachen und Kreativwerden. Egal\, ob du ein
 Geschenk für deine beste   \nFreundin basteln möchtest oder deinen
 eigenen Stil unterstreichen willst:   \nfädle direkt los und kreiere
 Hingucker für's Handgelenk! Keine Vorkenntnis   \nerforderlich\, Material
 & Werkzeug werden gestellt. \nPräsentiert von: Frau Brandt leitet seit
 über 10 Jahren erfolgreiche   \nWorkshops in unserer Bielefelder
 Buchhandlung. Ihre Veranstaltungen ziehen   \nkreative Teilnehmer jeden
 Alters und Talents an und sorgen stets für einen   \nbunten und
 inspirierenden Abend. \n \n(Stand: 23.04.2026)
DTSTAMP:20260422T142855Z
DTSTART:20260715T163000Z
GEO:52.023030;8.531449
LAST-MOD:20260422T142855Z
LOCATION:Thalia
STATUS:CONFIRMED
SUMMARY:Armbänder selbst gestalten!
TRANSP:OPAQUE
UID:1731848
URL:https://www.bielefeld.jetzt/node/1731847
END:VEVENT
END:VCALENDAR
