BEGIN:VCALENDAR
CALSCALE:GREGORIAN
METHOD:PUBLISH
PRODID:-//IT-On.NET//bielefeld.jetzt//DE
VERSION:2.0
BEGIN:VEVENT
CLASS:PUBLIC
CREATED:20260423T161449Z
DESCRIPTION:https://www.bielefeld.jetzt/node/1731853\n\nDas Fairstival
 bringt eine Welle bunter Klänge nach Bielefeld. Auf dem   \ndiesjährigen
 Ein-Tages-Festival unter dem Namen "Setting the Tone“ wird   \nder Ton
 von verschiedenen FLINTA*-Artists angegeben. Bei der Ravensberger  
 \nSpinnerei entsteht ein Festivalgelände\, was nicht nur mit den inneren
 Werten   \npunkten kann: sowohl indoor als auch outdoor wird das
 historische   \nEtablissement mit atmosphärischem Festivalflair verziert.
 Besuchende können   \nsich auf auserlesene Bands und DJ*s\, Essen und
 Getränke\, Vorträge und   \nWorkshops sowie diverse Aktionen und Stände
 freuen. \n
 \n------------------------------------------------------------------------------
 \nIn Kooperation mit dem Welthaus Bielefeld e. V.\, Historisches Museum  
 \nBielefeld\, Bezirksjugendwerk der AWO OWL und der Volkshochschule
 Bielefeld. \nGefördert vom Ministerium für Kultur und Wissenschaft des
 Landes NRW\, vom   \nKulturamt Bielefeld und der LVM Versicherung
 Jana-Lisa Friebe. \n
 \n------------------------------------------------------------------------------
 \nEintritt: VVK 22 Euro/erm. 16 Euro\, AK 28 Euro/erm. 22 Euro\,
 Empfänger:innen   \nvon Grundsicherung 1 Euro (nur AK)\, unter 13 Jahren
 kostenlos \nInfos zum Programm und Vorverkauf unter www.fairstival.de \n
 \n(Stand: 23.04.2026)
DTSTAMP:20260422T150240Z
DTSTART:20260711T130000Z
GEO:52.023100;8.543340
LAST-MOD:20260422T150240Z
LOCATION:Ravensberger Spinnerei / VHS
STATUS:CONFIRMED
SUMMARY:Setting the Tone
TRANSP:OPAQUE
UID:1731854
URL:https://www.bielefeld.jetzt/node/1731853
END:VEVENT
END:VCALENDAR
