BEGIN:VCALENDAR
CALSCALE:GREGORIAN
METHOD:PUBLISH
PRODID:-//IT-On.NET//bielefeld.jetzt//DE
VERSION:2.0
BEGIN:VEVENT
CLASS:PUBLIC
CREATED:20260423T161509Z
DESCRIPTION:https://www.bielefeld.jetzt/node/1731855\n\nSeit einem
 Jahrzehnt steht Dirigent Frederik Richts am Pult des Orchesters   \nund
 hat in dieser Zeit die musikalische Entwicklung und den  
 \ncharakteristischen Klang des Ensembles maßgeblich geprägt. \nZu diesem
 Jubiläum haben die Musikerinnen und Musiker ihre persönlichen  
 \nLieblingswerke aus zehn Jahren gemeinsamer Konzertprogramme ausgewählt.
 Das   \nErgebnis ist ein abwechslungsreiches Programm\, das die Vielfalt
 und   \nBandbreite symphonischer Blasmusik eindrucksvoll präsentiert.
 \nFeiern Sie mit und freuen sich auf Stücke wie Guardians oft the
 Galaxy\,   \nWestside Story\, dem Finale aus Bruckners 8. Symphonie und
 vielem mehr! \nTickets: Tourist-Information in der Wissenswerkstatt\,
 Kartenvorbestellung   \nüber info@dreisparren.de\, Abendkasse
 \nKartenpreise: Vorverkauf 13\,00 € / 8\,00 € ermäßigt\, Abendkasse
 15\,00   \n€ / 10\,00 € ermäßigt \n \n(Stand: 23.04.2026)
DTEND:20260531T160000Z
DTSTAMP:20260422T151305Z
DTSTART:20260531T140000Z
GEO:52.015871;8.548603
LAST-MOD:20260422T151305Z
LOCATION:Cecilien-Gymnasium
STATUS:CONFIRMED
SUMMARY:Best of 3Sparren - 10 Jahre Richts
TRANSP:OPAQUE
UID:1731856
URL:https://www.bielefeld.jetzt/node/1731855
END:VEVENT
END:VCALENDAR
