BEGIN:VCALENDAR
CALSCALE:GREGORIAN
METHOD:PUBLISH
PRODID:-//IT-On.NET//bielefeld.jetzt//DE
VERSION:2.0
BEGIN:VEVENT
CLASS:PUBLIC
CREATED:20260423T161448Z
DESCRIPTION:https://www.bielefeld.jetzt/node/1731857\n\nDas "verrückte
 Leben“\, dass der ungarische Komponist jüdischer Abstammung   \nnach
 eigenen Angaben geführt hat\, wird in dieser Jour Fixe über György  
 \nLigeti skizziert werden. Einige seiner berühmtesten Werke sehr  
 \nunterschiedlichen Charakters werden in Bild und Ton vorgestellt. \n
 \nReferent: Jörn Buldmann \n \nEintritt frei\, um Spende wird gebeten. \n
 \n(Stand: 23.04.2026)
DTEND:20260504T200000Z
DTSTAMP:20260422T174246Z
DTSTART:20260504T180000Z
GEO:52.014186;8.544051
LAST-MOD:20260422T174246Z
LOCATION:Capella Hospitalis
STATUS:CONFIRMED
SUMMARY:Angst und Humor - der Meisterkomponist György Ligeti
TRANSP:OPAQUE
UID:1731858
URL:https://www.bielefeld.jetzt/node/1731857
END:VEVENT
END:VCALENDAR
