BEGIN:VCALENDAR
CALSCALE:GREGORIAN
METHOD:PUBLISH
PRODID:-//IT-On.NET//bielefeld.jetzt//DE
VERSION:2.0
BEGIN:VEVENT
CLASS:PUBLIC
CREATED:20260423T161629Z
DESCRIPTION:https://www.bielefeld.jetzt/node/1731861\n\nNach dem Erfolg
 von "Irgendwann die weite Welt“ (2024) über sein   \nAufwachsen in
 Westberlin zu Mauerzeiten bis zum Aufbruch nach New York mit 18  
 \nbegleiten wir Lutz van Dijk nun in "Die weite Welt“ bis heute mit 70.
 Ein   \nPlädoyer für das Recht auf ein Zuhause – überall in der Welt.
 \nEinlass 19 Uhr\, Eintritt frei \nVHS Bielefeld\, Raum 240 \n \n(Stand:
 23.04.2026)
DTSTAMP:20260422T203737Z
DTSTART:20260616T173000Z
GEO:52.022415;8.543532
LAST-MOD:20260422T203737Z
LOCATION:Volkshochschule Bielefeld
STATUS:CONFIRMED
SUMMARY:Lutz van Dijk: Die weite Welt (Lesung)
TRANSP:OPAQUE
UID:1731862
URL:https://www.bielefeld.jetzt/node/1731861
END:VEVENT
END:VCALENDAR
