BEGIN:VCALENDAR
CALSCALE:GREGORIAN
METHOD:PUBLISH
PRODID:-//IT-On.NET//bielefeld.jetzt//DE
VERSION:2.0
BEGIN:VEVENT
CLASS:PUBLIC
CREATED:20260423T163316Z
DESCRIPTION:https://www.bielefeld.jetzt/node/1734213\n\nGegenstände\, die
 mit Armeen und verschiedensten Arten militärischer   \nHandlungen
 verbunden werden\, wecken seit Jahrhunderten das Interesse von  
 \nSammlern und der Öffentlichkeit. *Anastasia Serikova* zeigt in ihrem  
 \nVortrag\, wie heutige Museen Gegenstände aus laufenden Kriegen
 ausstellen.   \nFür ihre Doktorarbeit hat sie Fotos von Ausstellungen
 über den laufenden   \nKrieg in der Ukraine analysiert. Aufgrund ihrer
 detaillierten Beobachtungen   \nzeigt sie\, welche Risiken für die Museen
 dabei entstehen können. \n \nDer Vortrag ist Teil der öffentlichen
 Vortragsreihe „Linie 4 – Neues aus   \nder sozialwissenschaftlichen
 und historischen Forschung“\, die die Bielefeld   \nGraduate School in
 History and Sociology (BGHS) in Kooperation mit der VHS   \nBielefeld
 veranstaltet. \n \nRaum: 240 \n \n(Stand: 23.04.2026)
DTSTAMP:20260422T234501Z
DTSTART:20260527T161500Z
GEO:52.022415;8.543532
LAST-MOD:20260422T234501Z
LOCATION:Volkshochschule Bielefeld
STATUS:CONFIRMED
SUMMARY:Gegenwart als “Musealium”. Wie Museen laufende Kriege zeigen
TRANSP:OPAQUE
UID:1734214
URL:https://www.bielefeld.jetzt/node/1734213
END:VEVENT
END:VCALENDAR
