BEGIN:VCALENDAR
CALSCALE:GREGORIAN
METHOD:PUBLISH
PRODID:-//IT-On.NET//bielefeld.jetzt//DE
VERSION:2.0
BEGIN:VEVENT
CLASS:PUBLIC
CREATED:20260423T161324Z
DESCRIPTION:https://www.bielefeld.jetzt/node/1734221\n\nKlimakatastrophe\,
 Demokratieverlust\, Wirtschaftskrise: Derzeit erscheint das   \nBild einer
 schlecht gehenden Welt fast natürlich. Ist unsere Zeit also aus   \nden
 Fugen geraten? In seinem Vortrag widmet sich *Marcus Wystub* der Frage\,  
 \ninwiefern die Rede von einem vermeintlich ‚richtigen‘ Weg der
 Geschichte   \nsolchen Krisenerzählungen Vorschub leistet. Dabei greift
 er in Anlehnung an   \nden französischen Philosophen Jacques Derrida das
 Beispiel der These vom   \n‚Ende der Geschichte‘ und des Kommunismus
 nach 1989 auf. \n \nDer Vortrag ist Teil der öffentlichen Vortragsreihe
 „Linie 4 – Neues aus   \nder sozialwissenschaftlichen und historischen
 Forschung“\, die die Bielefeld   \nGraduate School in History and
 Sociology (BGHS) in Kooperation mit der VHS   \nBielefeld veranstaltet. \n
 \nRaum: 240 \n \n(Stand: 23.04.2026)
DTSTAMP:20260422T234501Z
DTSTART:20260610T161500Z
GEO:52.022415;8.543532
LAST-MOD:20260422T234501Z
LOCATION:Volkshochschule Bielefeld
STATUS:CONFIRMED
SUMMARY:Ist unsere Zeit aus den Fugen? Derrida\, 1989 und die Gegenwart
TRANSP:OPAQUE
UID:1734222
URL:https://www.bielefeld.jetzt/node/1734221
END:VEVENT
END:VCALENDAR
