BEGIN:VCALENDAR
CALSCALE:GREGORIAN
METHOD:PUBLISH
PRODID:-//IT-On.NET//bielefeld.jetzt//DE
VERSION:2.0
BEGIN:VEVENT
CLASS:PUBLIC
CREATED:20260423T163126Z
DESCRIPTION:https://www.bielefeld.jetzt/node/1734227\n\nEdle Ritter in
 schimmernder Rüstung\, mächtige Burgen und Helden\, die in   \ngroßen
 Schlachten die Schwerter kreuzen. So stellen moderne Geschichten\,  
 \nFilme\, Bücher und Videospiele mittelalterliche Kriege dar. Und liest
 man die   \nmittelalterliche Geschichtsschreibung\, findet man viele
 dieser Narrative   \nwieder. *Ole Bunte* geht der Frage nach\, wie
 mittelalterliche   \nGeschichtsschreiber über den Krieg erzählen und was
 uns dies über die   \nVorstellungen mittelalterlicher Menschen über den
 Krieg mitteilt. \n \nDer Vortrag ist Teil der öffentlichen Vortragsreihe
 „Linie 4 – Neues aus   \nder sozialwissenschaftlichen und historischen
 Forschung“\, die die Bielefeld   \nGraduate School in History and
 Sociology in Kooperation mit der VHS Bielefeld   \nveranstaltet. \n
 \nRaum: 240 \n \n(Stand: 23.04.2026)
DTSTAMP:20260422T234501Z
DTSTART:20260617T161500Z
GEO:52.022415;8.543532
LAST-MOD:20260422T234501Z
LOCATION:Volkshochschule Bielefeld
STATUS:CONFIRMED
SUMMARY:„Die Kriege erhoben sich wider Breslau“ – Wie im 15.
 Jahrhundert vom Krieg erzählt wurde
TRANSP:OPAQUE
UID:1734228
URL:https://www.bielefeld.jetzt/node/1734227
END:VEVENT
END:VCALENDAR
