BEGIN:VCALENDAR
CALSCALE:GREGORIAN
METHOD:PUBLISH
PRODID:-//IT-On.NET//bielefeld.jetzt//DE
VERSION:2.0
BEGIN:VEVENT
CLASS:PUBLIC
CREATED:20260423T161238Z
DESCRIPTION:https://www.bielefeld.jetzt/node/1731851\n\n"Die Wohnungsfrage
 des kleinen Mannes“ hielt Friedrich v. Bodelschwingh   \nfür den
 Schlüssel zur Lösung der sozialen Frage des 19. Jahrhunderts. Er   \nsah
 mit Sorge\, dass im Zuge der Industrialisierung der gesellschaftliche  
 \nZusammenhalt schwand\, die Kluft zwischen Arm und Reich wuchs und die  
 \nchristlichen Werte an Bedeutung verloren. Es entstand die
 Arbeiterbewegung\,   \ndie sich für bessere Lebensbedingungen der
 Arbeiterschaft einsetzte. Auch   \nBodelschwingh empfand dies als
 notwendig\, lehnte jedoch weitere politische   \nForderungen wie gleiche
 Rechte für alle sowie eine republikanische   \nStaatsform ab.
 \nBodelschwingh glaubte\, die Arbeiterbewegung bekämpfen zu können\,
 indem er   \nden Arbeiterfamilien zu Wohneigentum verhalf. Er gründete
 den Verein   \nArbeiterheim\, der bis zu seiner Auflösung ca. 400
 Wohnhäuser u. a. in   \nGadderbaum\, Brackwede\, Stieghorst\, Heepen und
 im Bielefelder Westen   \nerrichtete. Sie lagen dort u.a. an der Roland-\,
 Wittekind-\, und   \nKriemhildstraße\, Straßen\, die auch von Bethel
 gebaut wurden. Die   \nAusstellung widmet sich diesem besonderen
 Engagement Bethels. \n19. April\, 15 Uhr\, Eröffnung der Ausstellung
 durch Pastor Dr. Bartolt Haase \n \nÖffnungszeiten: \n \n19.04 bis
 21.05.2026 \nSonntag bis Donnerstag 15 bis 18 Uhr \n \n26.05 bis
 12.11.2026 \nDienstag bis Donnerstag 15 bis 17 Uhr \noder nach
 Vereinbarung \n \n(Stand: 23.04.2026)
DTEND:20260618T150000Z
DTSTAMP:20260423T071033Z
DTSTART:20260618T130000Z
GEO:52.012906;8.524332
LAST-MOD:20260423T071033Z
LOCATION:Historische Sammlung Bethel
STATUS:CONFIRMED
SUMMARY:"Die Wohnungsfrage des kleinen Mannes"
TRANSP:OPAQUE
UID:1734290
URL:https://www.bielefeld.jetzt/node/1731851
END:VEVENT
END:VCALENDAR
