BEGIN:VCALENDAR
CALSCALE:GREGORIAN
METHOD:PUBLISH
PRODID:-//IT-On.NET//bielefeld.jetzt//DE
VERSION:2.0
BEGIN:VEVENT
CLASS:PUBLIC
CREATED:20260424T163923Z
DESCRIPTION:https://www.bielefeld.jetzt/node/1734359\n\n"Lesen gegen das
 Vergessen“ prägt seit nunmehr zwölf Jahren eindrucksvoll   \ndie
 Bielefelder Erinnerungskultur zum "Tag der Befreiung“ vom  
 \nNationalsozialismus. Die Initiative von Mitgliedern des
 Künstlerinnenforums   \nbi-owl e. V. und weiteren engagierten
 Bürger:innen erinnert mit der Lesung   \nam Freitag\, 8. Mai\, um 15 Uhr
 vor dem Alten Rathaus an Dichterinnen\,   \nAutorinnen und
 Publizistinnen\, deren Werke im Frühjahr 1933 in den Flammen  
 \nverschwanden\, die ins Exil vertrieben\, deportiert oder umgebracht
 wurden. \n \nSie werden mit den Lesungen wieder gewürdigt\, ihre Stimmen
 kehren zurück   \nins öffentliche Bewusstsein. Mit der Auswahl der Texte
 wird Jugend in der   \nNS-Zeit nachvollziehbar\, ihr Erleben\, ihr
 Überleben\, die ideologische   \nBeeinflussung durch Elternhaus\, Schule
 und Partei\, die politisch und/oder   \nrassistische Verfolgung.
 Ausgewählt wurden auch wieder Autorinnen aus der   \nRegion und erstmals
 auch Stimmen von männlichen Jugendlichen. Viele Texte   \nwirken heute
 erschreckend aktuell und aufrüttelnd. Sie stammen unter anderen   \nvon
 Margot Friedländer\, Ilse Losa\, Ceija Stojka\, Selma Meerbaum\, Ilse
 Weber\,   \nKarla Raveh aus Lemgo und den aktuellen Autorinnen Gamze
 Kubaşık und Semiya   \nŞimşek. \nZu betonen ist\, dass das Engagement
 gegen das Vergessen zunehmend durch   \nSchüler:innen eindrucksvoll
 weitergetragen wird. Es beteiligen sich   \nSchüler:innen aus der
 Hans-Ehrenberg-Schule und der Luisenschule –   \nbegleitet von Ramona
 Kozma (Akkordeon\, Gesang) und Yulika Ogawa-Müller   \n(Cello). \n
 \nBetroffen erleben wir\, wie leicht sich faschistisches Gedankengut und
 Gewalt   \nin unsere Demokratie einschleichen. Fast täglich erfahren wir
 von immer   \nneuen Kriegen nicht nur im Iran und in der Ukraine\, sondern
 auch im gesamten   \nVorderen Orient\, im Sudan\, in Afghanistan und
 anderswo. Wieder einmal macht   \n"Lesen gegen das Vergessen“ deutlich\,
 dass die Freiheit des Wortes keine   \nSelbstverständlichkeit ist. Die
 Verbindung von Vergangenheit und Gegenwart   \nmahnt uns\, weiterhin
 wachsam und menschlich zu bleiben. \n \n(Stand: 24.04.2026)
DTEND:20260508T134000Z
DTSTAMP:20260423T114501Z
DTSTART:20260508T130000Z
GEO:52.021100;8.535570
LAST-MOD:20260423T114501Z
LOCATION:Altes Rathaus
STATUS:CONFIRMED
SUMMARY:Lesen gegen das Vergessen
TRANSP:OPAQUE
UID:1734360
URL:https://www.bielefeld.jetzt/node/1734359
END:VEVENT
END:VCALENDAR
