BEGIN:VCALENDAR
CALSCALE:GREGORIAN
METHOD:PUBLISH
PRODID:-//IT-On.NET//bielefeld.jetzt//DE
VERSION:2.0
BEGIN:VEVENT
CLASS:PUBLIC
CREATED:20260424T165112Z
DESCRIPTION:https://www.bielefeld.jetzt/node/1734361\n\nIn Kooperation mit
 der Vereinigung der Verfolgten des Naziregimes – Bund   \nder
 Antifaschistinnen und Antifaschisten (VVN-BdA) \nSeit mehreren Jahren
 erleben wir eine politische Rechtsentwicklung und das   \nErstarken
 faschistischer Tendenzen -- in Deutschland und international. Die  
 \nWahlergebnisse der AfD\, rassistische Narrative und andere rechte
 Erzählungen   \nsind längst keine Randerscheinung mehr\, sondern
 bestimmen zunehmend den   \npolitischen Alltag. Gleichzeitig werden
 Repressionsinstrumente ausgebaut und   \nMeinungsfreiheit schrittweise
 eingeschränkt. Wie ernst müssen wir diese   \nEntwicklungen nehmen? Was
 lehrt uns der Blick auf die 1930er-Jahre? Welche   \nHandlungsoptionen
 haben antifaschistische Kräfte heute? Der Historiker   \nUlrich Schneider
 liest aus seinem Werk "1933 – Der Weg ins Dritte Reich"   \nund
 diskutiert gemeinsam mit uns über Triebkräfte und Perspektiven des  
 \nantifaschistischen Widerstands. Diese Veranstaltung organisieren wir  
 \ngemeinsam mit der Vereinigung der Verfolgten des Naziregimes – Bund
 der   \nAntifaschistinnen und Antifaschisten (VVN-BdA)\, einem der
 ältesten   \nantifaschistischen Verbände Deutschlands. Der BdA vereint
 Menschen\, die sich   \nseit Jahrzehnten für die Erinnerung an den
 Widerstand gegen den   \nNationalsozialismus einsetzen und
 antifaschistische Arbeit in die Gegenwart   \ntragen. Wir freuen uns sehr
 über diese Zusammenarbeit und sind überzeugt\,   \ndass die Verbindung
 von historischem Wissen und politischem Engagement genau   \ndas ist\, was
 solche Abende brauchen. \nDr. phil. Ulrich Schneider \nJg. 1954\,
 Historiker und Publizist\, Generalsekretär der Internationalen  
 \nFöderation der Widerstandskämpfer (FIR) sowie langjährig in
 Funktionen der   \nVereinigung der Verfolgten des Naziregimes - Bund der
 Antifaschistinnen und   \nAntifaschisten (VVN-BdA) Seit 1975
 veröffentlicht Schneider zu den Themen   \nantifaschistischer
 Widerstand\, regionale Zeitgeschichte und Geschichte des KZ  
 \nBuchenwald. Er ist Autor zahlreicher Buch- und  
 \nZeitschriftenveröffentlichungen mit den Schwerpunkten Geschichte des  
 \nantifaschistischen Widerstands\, Auseinandersetzung mit  
 \nGeschichtsrevisionismus und Antifaschismus heute. \nDie Teilnahme ist
 Kostenlos – Wir bitten um Anmeldungen über den Link \n \n(Stand:
 24.04.2026)
DTEND:20260507T190000Z
DTSTAMP:20260423T131736Z
DTSTART:20260507T173000Z
GEO:52.021212;8.530761
LAST-MOD:20260423T131736Z
LOCATION:Buchladen Eulenspiegel
STATUS:CONFIRMED
SUMMARY:Lesung mit Ulrich Schneider 
TRANSP:OPAQUE
UID:1734362
URL:https://www.bielefeld.jetzt/node/1734361
END:VEVENT
END:VCALENDAR
