BEGIN:VCALENDAR
CALSCALE:GREGORIAN
METHOD:PUBLISH
PRODID:-//IT-On.NET//bielefeld.jetzt//DE
VERSION:2.0
BEGIN:VEVENT
CLASS:PUBLIC
CREATED:20260424T163157Z
DESCRIPTION:https://www.bielefeld.jetzt/node/1734367\n\nDie
 Canaillen-Bagage spielt "Das kalte Herz“ frei nach dem Märchen von  
 \nWilhelm Hauff. Der einfache Köhlerjunge Peter Munk träumt von
 Größerem.   \nEr sehnt sich nach Geld\, Einfluss\, Prestige … dem
 Leben der Reichen und   \nSchönen! Als er auf einen sagenumwobenen
 Waldgeist trifft\, der Wünsche   \nerfüllen kann\, wähnt er sich am
 Ziel seiner Träume. Doch vielleicht kann   \nder mysteriöse
 Holländermichel doch besser und schneller helfen? Sei lieber  
 \nvorsichtig Peter Munk\, denn alles hat seinen Preis! \n \n(Stand:
 24.04.2026)
DTEND:20260525T173000Z
DTSTAMP:20260423T195452Z
DTSTART:20260525T160000Z
GEO:52.013112;8.561534
LAST-MOD:20260423T195452Z
LOCATION:Freiraum Rochdale
STATUS:CONFIRMED
SUMMARY:Das kalte Herz
TRANSP:OPAQUE
UID:1734368
URL:https://www.bielefeld.jetzt/node/1734367
END:VEVENT
END:VCALENDAR
