BEGIN:VCALENDAR
CALSCALE:GREGORIAN
METHOD:PUBLISH
PRODID:-//IT-On.NET//bielefeld.jetzt//DE
VERSION:2.0
BEGIN:VEVENT
CLASS:PUBLIC
CREATED:20260424T163639Z
DESCRIPTION:https://www.bielefeld.jetzt/node/1736637\n\nAm diesem Sonntag
 beglücken uns wieder die kulturellen "Häppchen". Zum   \nfünften Mal
 gibt es Häppchen aus Melodie\, Poesie und anderem. Die   \nHäppchen-Crew
 stellt ein buntes Programm zusammen aus kurzen Beiträgen von   \n5 bis 15
 Minuten. Groß und Klein\, Alt oder Jung\, noch unsicher oder voll  
 \nprofessionell ... Seid gespannt! \nEinlass ab 14:30 Uhr und
 Reservierungen nehmen wir gern telefonisch entgegen. \n \n(Stand:
 24.04.2026)
DTEND:20260426T160000Z
DTSTAMP:20260423T224408Z
DTSTART:20260426T130000Z
GEO:52.016026;8.536117
LAST-MOD:20260423T224408Z
LOCATION:Haltestulle
STATUS:CONFIRMED
SUMMARY:Häppchen
TRANSP:OPAQUE
UID:1736638
URL:https://www.bielefeld.jetzt/node/1736637
END:VEVENT
END:VCALENDAR
