BEGIN:VCALENDAR
CALSCALE:GREGORIAN
METHOD:PUBLISH
PRODID:-//IT-On.NET//bielefeld.jetzt//DE
VERSION:2.0
BEGIN:VEVENT
CLASS:PUBLIC
CREATED:20260424T164659Z
DESCRIPTION:https://www.bielefeld.jetzt/node/1736640\n\nIm Offenen Atelier
 kannst du deiner Kreativität freien Lauf lassen. Ohne   \nfeste
 Vorgaben\, aber mit viel Raum zum Ausprobieren\, Gestalten und  
 \nExperimentieren – ganz in deinem Tempo. Ob mit Pinsel\, Schere\,
 Kreide oder   \nCollagematerial: Du entscheidest\, worauf du Lust hast.
 Eine   \nmuseumspädagogische Begleitung ist vor Ort\, um dich bei Bedarf
 zu   \nunterstützen\, Techniken zu zeigen oder Impulse zu geben.
 Vorkenntnisse   \nbrauchst du keine\, nur Neugier und Freude am Machen.
 Alle Altersgruppen sind   \nwillkommen! \n \nKinder unter 12 Jahren nur in
 Begleitung Erwachsener. \nDer Ausstellungseintritt ist nicht im Preis
 inklusive. \n \n10 Euro \nohne Ausstellungseintritt \n \n(Stand:
 24.04.2026)
DTEND:20260611T153000Z
DTSTAMP:20260423T231501Z
DTSTART:20260611T133000Z
GEO:52.018100;8.525970
LAST-MOD:20260423T231501Z
LOCATION:Kunsthalle Bielefeld
STATUS:CONFIRMED
SUMMARY:Offenes Atelier
TRANSP:OPAQUE
UID:1736642
URL:https://www.bielefeld.jetzt/node/1736640
END:VEVENT
END:VCALENDAR
