BEGIN:VCALENDAR
CALSCALE:GREGORIAN
METHOD:PUBLISH
PRODID:-//IT-On.NET//bielefeld.jetzt//DE
VERSION:2.0
BEGIN:VEVENT
CLASS:PUBLIC
CREATED:20260424T163222Z
DESCRIPTION:https://www.bielefeld.jetzt/node/1736645\n\nWer waren die
 Wikinger wirklich? Furchtlose Krieger\, Entdecker fremder Welten   \noder
 gar die Begründer von Gleichberechtigung und Demokratie? Kaum eine  
 \nhistorische Epoche ist so präsent in unserer Gegenwart und zugleich so 
  \nschwer zu fassen wie die sogenannte Wikingerzeit. In ihrem Vortrag
 widmet   \nsich *Hannah von Legat* der Frage\, was wir über die Wikinger
 tatsächlich   \nwissen können\, was wir vielleicht nur zu wissen glauben
 – und wann ein   \nsolch vermeintliches Wissen gefährlich wird. \n
 \nDer Vortrag ist Teil der öffentlichen Vortragsreihe „Linie 4 –
 Neues aus   \nder sozialwissenschaftlichen und historischen Forschung“\,
 die die Bielefeld   \nGraduate School in History and Sociology (BGHS) in
 Kooperation mit der VHS   \nBielefeld organisiert. \n \nRaum: 240 \n
 \n(Stand: 24.04.2026)
DTSTAMP:20260423T234501Z
DTSTART:20260522T091500Z
GEO:52.022415;8.543532
LAST-MOD:20260423T234501Z
LOCATION:Volkshochschule Bielefeld
STATUS:CONFIRMED
SUMMARY:Gefährliche Mythen: Wikinger zwischen Popkultur und Populismus
TRANSP:OPAQUE
UID:1736646
URL:https://www.bielefeld.jetzt/node/1736645
END:VEVENT
END:VCALENDAR
