BEGIN:VCALENDAR
CALSCALE:GREGORIAN
METHOD:PUBLISH
PRODID:-//IT-On.NET//bielefeld.jetzt//DE
VERSION:2.0
BEGIN:VEVENT
CLASS:PUBLIC
CREATED:20260425T155330Z
DESCRIPTION:https://www.bielefeld.jetzt/node/1738947\n\nDas namu bietet
 Erwachsenen die Gelegenheit\, an fünf Vormittagen Tiere\,   \nFossilien\,
 Gesteine oder andere naturkundliche Objekte aus den Sammlungen des  
 \nNaturkunde-Museums genau zu studieren und zu zeichnen. Die Teilnehmenden
   \nkönnen die eigenen Fähigkeiten im Zeichnen verbessern\, auffrischen
 oder   \ngezielt bestimmte Präparate zeichnen. \n \nLeitung: Dipl.-Des.
 Imke Brunzema \n \n  \n \n*Startdatum: 03. Juni 2026 \n* \n
 \n*Folgetermine: 24.06.\, 01.07.\, 08.07.\, 15.07. ** \n* \n \n*Am
 24.06.2026 und am 01.07.2026 findet der Kurs mit einer geänderten  
 \nUhrzeit von 10:00-13:00 Uhr statt!* \n \n  \n \nPreise: 70 € / Kurs
 \n \nZielgruppe: Erwachsene \n \n5 Termine - nicht einzeln buchbar! \n
 \nAnmeldung: \n \nfon 0521 51 67 34
 \nveranstaltungen-naturkundemuseum@bielefeld.de [1] \n \n/Bitte eine
 aktuelle Telefonnummer und E-Mail-Adresse jedes:r Teilnehmenden  
 \nangeben./ \n \n \n[1]
 mailto:veranstaltungen-naturkundemuseum@bielefeld.de \n(Stand:
 25.04.2026)
DTEND:20260715T100000Z
DTSTAMP:20260424T230001Z
DTSTART:20260603T080000Z
GEO:52.017530;8.525550
LAST-MOD:20260424T230001Z
LOCATION:namu Verwaltungsgebäude
STATUS:CONFIRMED
SUMMARY:Bis ins Detail: Naturstudien im namu
TRANSP:OPAQUE
UID:1738948
URL:https://www.bielefeld.jetzt/node/1738947
END:VEVENT
END:VCALENDAR
